BEGIN:VCALENDAR
VERSION:2.0
PRODID:-//Historical Portrayals By Lady J - ECPv6.15.18//NONSGML v1.0//EN
CALSCALE:GREGORIAN
METHOD:PUBLISH
X-ORIGINAL-URL:https://www.women-history.com
X-WR-CALDESC:Events for Historical Portrayals By Lady J
REFRESH-INTERVAL;VALUE=DURATION:PT1H
X-Robots-Tag:noindex
X-PUBLISHED-TTL:PT1H
BEGIN:VTIMEZONE
TZID:UTC
BEGIN:STANDARD
TZOFFSETFROM:+0000
TZOFFSETTO:+0000
TZNAME:UTC
DTSTART:20220101T000000
END:STANDARD
END:VTIMEZONE
BEGIN:VEVENT
DTSTART;TZID=UTC:20230812T080000
DTEND;TZID=UTC:20230812T080000
DTSTAMP:20260425T184912
CREATED:20190604T085223Z
LAST-MODIFIED:20230718T091416Z
UID:480-1691827200-1691827200@www.women-history.com
SUMMARY:Meet Our First Female Cabinet Secretary: Frances Perkins’ Rocky Road to Washington
DESCRIPTION:(Ticketed Event)
URL:https://www.women-history.com/event/meet-our-first-female-cabinet-secretary-frances-perkins-rocky-road-to-washington/
LOCATION:Suffolk University Law School\, 120 Tremont Street\, Boston\, Massachusetts\, Suffolk University Law School\, 120 Tremont Street\, Boston\,\, Boston\, MA\, United States
CATEGORIES:Invitation
ATTACH;FMTTYPE=image/jpeg:https://www.women-history.com/wp-content/uploads/2019/06/Meet-Our-1st-Female-Cabinet-Secretary-Frances-Perkins-Rocky-Road-to-Washington.jpg
ORGANIZER;CN="Janet Parnes":MAILTO:LadiesTell@gmail.com
END:VEVENT
END:VCALENDAR