BEGIN:VCALENDAR
VERSION:2.0
PRODID:-//Historical Portrayals By Lady J - ECPv6.15.18//NONSGML v1.0//EN
CALSCALE:GREGORIAN
METHOD:PUBLISH
X-WR-CALNAME:Historical Portrayals By Lady J
X-ORIGINAL-URL:https://www.women-history.com
X-WR-CALDESC:Events for Historical Portrayals By Lady J
REFRESH-INTERVAL;VALUE=DURATION:PT1H
X-Robots-Tag:noindex
X-PUBLISHED-TTL:PT1H
BEGIN:VTIMEZONE
TZID:UTC
BEGIN:STANDARD
TZOFFSETFROM:+0000
TZOFFSETTO:+0000
TZNAME:UTC
DTSTART:20220101T000000
END:STANDARD
END:VTIMEZONE
BEGIN:VEVENT
DTSTART;TZID=UTC:20231017T130000
DTEND;TZID=UTC:20231017T140000
DTSTAMP:20260425T153853
CREATED:20230830T153134Z
LAST-MODIFIED:20230830T154414Z
UID:6148-1697547600-1697551200@www.women-history.com
SUMMARY:Meet the Architect of the New Deal: Miss Frances Perkins (Part 1)
DESCRIPTION:Location: McCulloch Building/Whipple Senior Center \nRegistration encouraged. Call (781) 682-6140
URL:https://www.women-history.com/event/the-architect-of-social-security-miss-frances-perkins-part-1/
LOCATION:Whipple Senior Center\, Weymouth\, 182 Green St\, N. Weymouth\, 02191\, United States
END:VEVENT
END:VCALENDAR