BEGIN:VCALENDAR
VERSION:2.0
PRODID:-//Historical Portrayals By Lady J - ECPv6.15.18//NONSGML v1.0//EN
CALSCALE:GREGORIAN
METHOD:PUBLISH
X-ORIGINAL-URL:https://www.women-history.com
X-WR-CALDESC:Events for Historical Portrayals By Lady J
REFRESH-INTERVAL;VALUE=DURATION:PT1H
X-Robots-Tag:noindex
X-PUBLISHED-TTL:PT1H
BEGIN:VTIMEZONE
TZID:UTC
BEGIN:STANDARD
TZOFFSETFROM:+0000
TZOFFSETTO:+0000
TZNAME:UTC
DTSTART:20220101T000000
END:STANDARD
END:VTIMEZONE
BEGIN:VEVENT
DTSTART;TZID=UTC:20231023T130000
DTEND;TZID=UTC:20231023T140000
DTSTAMP:20260425T153924
CREATED:20230830T155224Z
LAST-MODIFIED:20230830T155224Z
UID:6158-1698066000-1698069600@www.women-history.com
SUMMARY:Meet the Architect of the New Deal: Miss Frances Perkins (Part 1)
DESCRIPTION:Center at the Heights is the senior center for Needham\, MA \nFree of charge. \nRegistration encouraged. Call 781-455-7555
URL:https://www.women-history.com/event/meet-the-architect-of-the-new-deal-miss-frances-perkins-part-1/
LOCATION:MA
END:VEVENT
END:VCALENDAR