BEGIN:VCALENDAR
VERSION:2.0
PRODID:-//Historical Portrayals By Lady J - ECPv6.15.18//NONSGML v1.0//EN
CALSCALE:GREGORIAN
METHOD:PUBLISH
X-WR-CALNAME:Historical Portrayals By Lady J
X-ORIGINAL-URL:https://www.women-history.com
X-WR-CALDESC:Events for Historical Portrayals By Lady J
REFRESH-INTERVAL;VALUE=DURATION:PT1H
X-Robots-Tag:noindex
X-PUBLISHED-TTL:PT1H
BEGIN:VTIMEZONE
TZID:UTC
BEGIN:STANDARD
TZOFFSETFROM:+0000
TZOFFSETTO:+0000
TZNAME:UTC
DTSTART:20230101T000000
END:STANDARD
END:VTIMEZONE
BEGIN:VEVENT
DTSTART;TZID=UTC:20240613T110000
DTEND;TZID=UTC:20240613T123000
DTSTAMP:20260425T021832
CREATED:20240528T190247Z
LAST-MODIFIED:20240528T193318Z
UID:6400-1718276400-1718281800@www.women-history.com
SUMMARY:Farm Girl on the Front Lines: Deborah Sampson's Secret!
DESCRIPTION:A snippet of the Deborah Sampson portrayal will be part of the Deborah Sampson Award Ceremony. This award to given to a Mass. women veteran for outstanding military and community service. \nFree of charge \nRegister to attend: . https://tinyurl.com/DebSampAward
URL:https://www.women-history.com/event/farm-girl-on-the-front-lines-deborah-sampsons-storyu/
LOCATION:Massachusettes State House\, Memnorial Hall\, 24 Beacon St.\, Boston\, MA
END:VEVENT
END:VCALENDAR