BEGIN:VCALENDAR
VERSION:2.0
PRODID:-//Historical Portrayals By Lady J - ECPv6.15.18//NONSGML v1.0//EN
CALSCALE:GREGORIAN
METHOD:PUBLISH
X-ORIGINAL-URL:https://www.women-history.com
X-WR-CALDESC:Events for Historical Portrayals By Lady J
REFRESH-INTERVAL;VALUE=DURATION:PT1H
X-Robots-Tag:noindex
X-PUBLISHED-TTL:PT1H
BEGIN:VTIMEZONE
TZID:UTC
BEGIN:STANDARD
TZOFFSETFROM:+0000
TZOFFSETTO:+0000
TZNAME:UTC
DTSTART:20230101T000000
END:STANDARD
END:VTIMEZONE
BEGIN:VEVENT
DTSTART;TZID=UTC:20240905T190000
DTEND;TZID=UTC:20240905T200000
DTSTAMP:20260424T215845
CREATED:20240809T214451Z
LAST-MODIFIED:20240809T214451Z
UID:6444-1725562800-1725566400@www.women-history.com
SUMMARY:Farm Girl on the Fron Lines: Deborah Sampson's Secret!
DESCRIPTION:Price: free with museum admission (admission fee is $5 for adults; $4 for students and seniors); free for members and children 18 and under
URL:https://www.women-history.com/event/farm-girl-on-the-fron-lines-deborah-sampsons-secret/
LOCATION:Worcester Historical Museum\, Worcester\, MA\, 30 Elm St.\, Worcester\, MA
END:VEVENT
END:VCALENDAR