BEGIN:VCALENDAR
VERSION:2.0
PRODID:-//Historical Portrayals By Lady J - ECPv6.15.18//NONSGML v1.0//EN
CALSCALE:GREGORIAN
METHOD:PUBLISH
X-ORIGINAL-URL:https://www.women-history.com
X-WR-CALDESC:Events for Historical Portrayals By Lady J
REFRESH-INTERVAL;VALUE=DURATION:PT1H
X-Robots-Tag:noindex
X-PUBLISHED-TTL:PT1H
BEGIN:VTIMEZONE
TZID:UTC
BEGIN:STANDARD
TZOFFSETFROM:+0000
TZOFFSETTO:+0000
TZNAME:UTC
DTSTART:20230101T000000
END:STANDARD
END:VTIMEZONE
BEGIN:VEVENT
DTSTART;TZID=UTC:20241011T130000
DTEND;TZID=UTC:20241011T140000
DTSTAMP:20260424T203833
CREATED:20240910T094423Z
LAST-MODIFIED:20240910T094506Z
UID:6465-1728651600-1728655200@www.women-history.com
SUMMARY:Myths & Miracles of Victorian Medicine
DESCRIPTION:Norwood Senior Center \n275 Prospect St. \nNorwood\, MA \n1-2 PM
URL:https://www.women-history.com/event/myths-miracles-of-victorian-medicine-5/
LOCATION:Norwood Senior Center\, Norwood Senior Center\, 275 Prospect St. Norwood\, MA\, Norwood\, United States
END:VEVENT
END:VCALENDAR