BEGIN:VCALENDAR
VERSION:2.0
PRODID:-//Historical Portrayals By Lady J - ECPv6.15.18//NONSGML v1.0//EN
CALSCALE:GREGORIAN
METHOD:PUBLISH
X-WR-CALNAME:Historical Portrayals By Lady J
X-ORIGINAL-URL:https://www.women-history.com
X-WR-CALDESC:Events for Historical Portrayals By Lady J
REFRESH-INTERVAL;VALUE=DURATION:PT1H
X-Robots-Tag:noindex
X-PUBLISHED-TTL:PT1H
BEGIN:VTIMEZONE
TZID:UTC
BEGIN:STANDARD
TZOFFSETFROM:+0000
TZOFFSETTO:+0000
TZNAME:UTC
DTSTART:20230101T000000
END:STANDARD
END:VTIMEZONE
BEGIN:VEVENT
DTSTART;TZID=UTC:20241019T130000
DTEND;TZID=UTC:20241019T140000
DTSTAMP:20260424T203755
CREATED:20240910T094620Z
LAST-MODIFIED:20240910T094755Z
UID:6468-1729342800-1729346400@www.women-history.com
SUMMARY:Farm Girl on the Front Lines: Deborah Sampson’s Secret!
DESCRIPTION:Blackstone Historical Museum \n23 Main Street Blackstone\, MA \n1-2 PM
URL:https://www.women-history.com/event/farm-girl-on-the-front-lines-deborah-sampsons-secret-9/
LOCATION:Blackstone Historical Museum\, Blackstone Historical Museum 23 Main Street Blackstone\, MA\, MA\, United States
END:VEVENT
END:VCALENDAR