BEGIN:VCALENDAR
VERSION:2.0
PRODID:-//Historical Portrayals By Lady J - ECPv6.15.18//NONSGML v1.0//EN
CALSCALE:GREGORIAN
METHOD:PUBLISH
X-WR-CALNAME:Historical Portrayals By Lady J
X-ORIGINAL-URL:https://www.women-history.com
X-WR-CALDESC:Events for Historical Portrayals By Lady J
REFRESH-INTERVAL;VALUE=DURATION:PT1H
X-Robots-Tag:noindex
X-PUBLISHED-TTL:PT1H
BEGIN:VTIMEZONE
TZID:UTC
BEGIN:STANDARD
TZOFFSETFROM:+0000
TZOFFSETTO:+0000
TZNAME:UTC
DTSTART:20230101T000000
END:STANDARD
END:VTIMEZONE
BEGIN:VEVENT
DTSTART;TZID=UTC:20241106T130000
DTEND;TZID=UTC:20241106T140000
DTSTAMP:20260424T191100
CREATED:20241020T145306Z
LAST-MODIFIED:20241031T171519Z
UID:6488-1730898000-1730901600@www.women-history.com
SUMMARY:The Unsung Heroine Behind the New Deal (Part 2)
DESCRIPTION:Frances Perkins’ 12 years as FDR’s Secretary of Labor.  It is not necessary to have seen Part 1 to enjoy Part 2. \nRegistration requested: call 781-(781) 455-7555 \nFree to attend
URL:https://www.women-history.com/event/the-unsung-heroine-behind-the-new-deal-part-2-10/
LOCATION:Center at the Heights\, 300 Hillside Ave\, Needham\, MA\, 02494\, United States
END:VEVENT
END:VCALENDAR