BEGIN:VCALENDAR
VERSION:2.0
PRODID:-//Historical Portrayals By Lady J - ECPv6.15.18//NONSGML v1.0//EN
CALSCALE:GREGORIAN
METHOD:PUBLISH
X-WR-CALNAME:Historical Portrayals By Lady J
X-ORIGINAL-URL:https://www.women-history.com
X-WR-CALDESC:Events for Historical Portrayals By Lady J
REFRESH-INTERVAL;VALUE=DURATION:PT1H
X-Robots-Tag:noindex
X-PUBLISHED-TTL:PT1H
BEGIN:VTIMEZONE
TZID:UTC
BEGIN:STANDARD
TZOFFSETFROM:+0000
TZOFFSETTO:+0000
TZNAME:UTC
DTSTART:20240101T000000
END:STANDARD
END:VTIMEZONE
BEGIN:VEVENT
DTSTART;TZID=UTC:20250306T183000
DTEND;TZID=UTC:20250306T193000
DTSTAMP:20260424T131329
CREATED:20250217T165206Z
LAST-MODIFIED:20250224T220323Z
UID:6551-1741285800-1741289400@www.women-history.com
SUMMARY:Meet the Unsung Heroine Behind the New Deal (Part 2) : Frances Perkins Shakes up Washington!
DESCRIPTION:This is Part 2 of the 2-part series. (You do not have to have seen Part 1 in order to enjoy Part 2.) \nTo access  information and register visit: https://tinyurl.com/UxbLibFPerk2 or by call the Library: 508  278-8624 Funded in part by a grant from the Uxbridge Cultural Council. \n 
URL:https://www.women-history.com/event/meet-the-unsung-heroine-behind-the-new-deal-frances-perkins-shakes-up-washington/
LOCATION:Uxbridge Public Library\, 15 N. Main St.\, Uxbridge\, MA
END:VEVENT
END:VCALENDAR