BEGIN:VCALENDAR
VERSION:2.0
PRODID:-//Historical Portrayals By Lady J - ECPv6.15.18//NONSGML v1.0//EN
CALSCALE:GREGORIAN
METHOD:PUBLISH
X-WR-CALNAME:Historical Portrayals By Lady J
X-ORIGINAL-URL:https://www.women-history.com
X-WR-CALDESC:Events for Historical Portrayals By Lady J
REFRESH-INTERVAL;VALUE=DURATION:PT1H
X-Robots-Tag:noindex
X-PUBLISHED-TTL:PT1H
BEGIN:VTIMEZONE
TZID:UTC
BEGIN:STANDARD
TZOFFSETFROM:+0000
TZOFFSETTO:+0000
TZNAME:UTC
DTSTART:20240101T000000
END:STANDARD
END:VTIMEZONE
BEGIN:VEVENT
DTSTART;TZID=UTC:20250327T183000
DTEND;TZID=UTC:20250327T193000
DTSTAMP:20260424T131416
CREATED:20250217T171239Z
LAST-MODIFIED:20250217T171239Z
UID:6554-1743100200-1743103800@www.women-history.com
SUMMARY:The Unsung Heroine Behind the New Deal (Part 1): Frances Perkins' Rocky Road to Washington
DESCRIPTION:Free of Charge \nRegistration opens March 13. Register on or after March 13 at https://tinyurl.com/WestbLibFPerk1 or by calling the Library at 508-366-3050 \n \nThis program is supported in part by a grant from the Westborough Cultural Council\, a local agency which is supported by the Mass Cultural Council\, a state agency.
URL:https://www.women-history.com/event/the-unsung-heroine-behind-the-new-deal-part-1-frances-perkins-rocky-road-to-washington/
LOCATION:Westborough Public Library\, 55 West Main St.\, Westborough\, MA
END:VEVENT
END:VCALENDAR