BEGIN:VCALENDAR
VERSION:2.0
PRODID:-//Historical Portrayals By Lady J - ECPv6.15.18//NONSGML v1.0//EN
CALSCALE:GREGORIAN
METHOD:PUBLISH
X-ORIGINAL-URL:https://www.women-history.com
X-WR-CALDESC:Events for Historical Portrayals By Lady J
REFRESH-INTERVAL;VALUE=DURATION:PT1H
X-Robots-Tag:noindex
X-PUBLISHED-TTL:PT1H
BEGIN:VTIMEZONE
TZID:UTC
BEGIN:STANDARD
TZOFFSETFROM:+0000
TZOFFSETTO:+0000
TZNAME:UTC
DTSTART:20240101T000000
END:STANDARD
END:VTIMEZONE
BEGIN:VEVENT
DTSTART;TZID=UTC:20250508T130000
DTEND;TZID=UTC:20250508T140000
DTSTAMP:20260424T100425
CREATED:20250322T152907Z
LAST-MODIFIED:20250322T152907Z
UID:6604-1746709200-1746712800@www.women-history.com
SUMMARY:The Etiquette Expert of 1890: Mothers' Day Tea
DESCRIPTION:Free of charge. \nRegistration required: call the Senior Center at 508) 234-2002. Space is limited. \nThis program is supported in part by a grant from the Northbridge Cultural Council\, a local agency which is supported by the Mass Cultural Council\, a state agency. \n 
URL:https://www.women-history.com/event/the-etiquette-expert-of-1890-mothers-day-tea/
LOCATION:Northbridge Couuncil on Aging at Plunmer Place\, 20 Highland St.\, Whitinsville\, MA
END:VEVENT
END:VCALENDAR