BEGIN:VCALENDAR
VERSION:2.0
PRODID:-//Historical Portrayals By Lady J - ECPv6.15.18//NONSGML v1.0//EN
CALSCALE:GREGORIAN
METHOD:PUBLISH
X-WR-CALNAME:Historical Portrayals By Lady J
X-ORIGINAL-URL:https://www.women-history.com
X-WR-CALDESC:Events for Historical Portrayals By Lady J
REFRESH-INTERVAL;VALUE=DURATION:PT1H
X-Robots-Tag:noindex
X-PUBLISHED-TTL:PT1H
BEGIN:VTIMEZONE
TZID:UTC
BEGIN:STANDARD
TZOFFSETFROM:+0000
TZOFFSETTO:+0000
TZNAME:UTC
DTSTART:20250101T000000
END:STANDARD
END:VTIMEZONE
BEGIN:VEVENT
DTSTART;TZID=UTC:20260110T133000
DTEND;TZID=UTC:20260110T143000
DTSTAMP:20260423T221414
CREATED:20251205T183135Z
LAST-MODIFIED:20251205T183135Z
UID:6712-1768051800-1768055400@www.women-history.com
SUMMARY:The Etiquette Expert of 1890
DESCRIPTION:Free of charge \nNo registration required
URL:https://www.women-history.com/event/the-etiquette-expert-of-1890-5/
LOCATION:Saugus Public Library\, 295 Central St.\, Saugus\, MA
END:VEVENT
END:VCALENDAR