BEGIN:VCALENDAR
VERSION:2.0
PRODID:-//Historical Portrayals By Lady J - ECPv6.15.18//NONSGML v1.0//EN
CALSCALE:GREGORIAN
METHOD:PUBLISH
X-WR-CALNAME:Historical Portrayals By Lady J
X-ORIGINAL-URL:https://www.women-history.com
X-WR-CALDESC:Events for Historical Portrayals By Lady J
REFRESH-INTERVAL;VALUE=DURATION:PT1H
X-Robots-Tag:noindex
X-PUBLISHED-TTL:PT1H
BEGIN:VTIMEZONE
TZID:UTC
BEGIN:STANDARD
TZOFFSETFROM:+0000
TZOFFSETTO:+0000
TZNAME:UTC
DTSTART:20250101T000000
END:STANDARD
END:VTIMEZONE
BEGIN:VEVENT
DTSTART;TZID=UTC:20260204T180000
DTEND;TZID=UTC:20260204T190000
DTSTAMP:20260423T203903
CREATED:20260115T161228Z
LAST-MODIFIED:20260115T162952Z
UID:6717-1770228000-1770231600@www.women-history.com
SUMMARY:Myths & Miracles of Victorian Medicine
DESCRIPTION:Free of charge \nRegister at https://tinyurl.com/VictMedNBoro
URL:https://www.women-history.com/event/myths-miracles-of-victorian-medicine-10/
LOCATION:Northborough Free Library\, 34 Main St.\, Northborough\, MA
END:VEVENT
END:VCALENDAR