BEGIN:VCALENDAR
VERSION:2.0
PRODID:-//Historical Portrayals By Lady J - ECPv6.15.18//NONSGML v1.0//EN
CALSCALE:GREGORIAN
METHOD:PUBLISH
X-ORIGINAL-URL:https://www.women-history.com
X-WR-CALDESC:Events for Historical Portrayals By Lady J
REFRESH-INTERVAL;VALUE=DURATION:PT1H
X-Robots-Tag:noindex
X-PUBLISHED-TTL:PT1H
BEGIN:VTIMEZONE
TZID:UTC
BEGIN:STANDARD
TZOFFSETFROM:+0000
TZOFFSETTO:+0000
TZNAME:UTC
DTSTART:20250101T000000
END:STANDARD
END:VTIMEZONE
BEGIN:VEVENT
DTSTART;TZID=UTC:20260416T130000
DTEND;TZID=UTC:20260416T140000
DTSTAMP:20260423T173055
CREATED:20260314T135909Z
LAST-MODIFIED:20260328T172501Z
UID:6794-1776344400-1776348000@www.women-history.com
SUMMARY:The Etiquette Expert of 1890 -- Victorian Tea & Performance
DESCRIPTION:Registration required\, call the Senior Center at (508) 497-9730
URL:https://www.women-history.com/event/the-etiquette-expert-of-1890-victorian-tea-performance/
LOCATION:Hopkinton Senior Center\, 28 Mayhew St.\, Hopkinton\, MA
END:VEVENT
END:VCALENDAR