BEGIN:VCALENDAR
VERSION:2.0
PRODID:-//Historical Portrayals By Lady J - ECPv6.15.18//NONSGML v1.0//EN
CALSCALE:GREGORIAN
METHOD:PUBLISH
X-WR-CALNAME:Historical Portrayals By Lady J
X-ORIGINAL-URL:https://www.women-history.com
X-WR-CALDESC:Events for Historical Portrayals By Lady J
REFRESH-INTERVAL;VALUE=DURATION:PT1H
X-Robots-Tag:noindex
X-PUBLISHED-TTL:PT1H
BEGIN:VTIMEZONE
TZID:UTC
BEGIN:STANDARD
TZOFFSETFROM:+0000
TZOFFSETTO:+0000
TZNAME:UTC
DTSTART:20240101T000000
END:STANDARD
END:VTIMEZONE
BEGIN:VEVENT
DTSTART;TZID=UTC:20260107T130000
DTEND;TZID=UTC:20260107T140000
DTSTAMP:20260423T221024
CREATED:20251116T201745Z
LAST-MODIFIED:20251116T201745Z
UID:6709-1767790800-1767794400@www.women-history.com
SUMMARY:If the Props Could Talk...
DESCRIPTION:The storis behind Lady J’s performance props and assorted life necessities from the Colonial\, Federalist\, Victorian\, and WW eras
URL:https://www.women-history.com/event/if-the-props-could-talk/
LOCATION:Center at the Heights\, 300 Hillside Ave\, Needham\, MA\, 02494\, United States
END:VEVENT
BEGIN:VEVENT
DTSTART;TZID=UTC:20251125T190000
DTEND;TZID=UTC:20251125T200000
DTSTAMP:20260423T221024
CREATED:20251116T195340Z
LAST-MODIFIED:20251116T200012Z
UID:6705-1764097200-1764100800@www.women-history.com
SUMMARY:The Unsung Heroine Behind the New Deal: Meet Frances Perkins (Part 2)
DESCRIPTION:Free of charge. Not necessary to have seen Part 1 to enjoy Part 2. \n  \n 
URL:https://www.women-history.com/event/the-unsung-heroine-behind-the-new-deal-meet-frances-perkins-part-2/
LOCATION:Jenks Center (Council on Aging)\, 109 Skillings Rd.\, Winchester\, MA\, 02054\, United States
END:VEVENT
BEGIN:VEVENT
DTSTART;TZID=UTC:20251026T140000
DTEND;TZID=UTC:20251026T150000
DTSTAMP:20260423T221024
CREATED:20251010T160337Z
LAST-MODIFIED:20251010T160337Z
UID:6698-1761487200-1761490800@www.women-history.com
SUMMARY:Farm Girl on the Front Lines: Deborah Sampson's Secret!
DESCRIPTION:Free of charge \nDoors open at 2pm for refreshments. Performance starts at 2:15.
URL:https://www.women-history.com/event/farm-girl-on-the-front-lines-deborah-sampsons-secret-21/
LOCATION:Bedford Historical Society\, 16 South Rd.\, Bedford\, MA
END:VEVENT
BEGIN:VEVENT
DTSTART;TZID=UTC:20251022T190000
DTEND;TZID=UTC:20251022T200000
DTSTAMP:20260423T221024
CREATED:20251003T161420Z
LAST-MODIFIED:20251003T161420Z
UID:6694-1761159600-1761163200@www.women-history.com
SUMMARY:The Unsung Heroine Behind the New Deal (Part 1)
DESCRIPTION:Hosted by the Northbridge Historical Society \nFree of charge
URL:https://www.women-history.com/event/the-unsung-heroine-behind-the-new-deal-part-1-9/
LOCATION:Singh Performance Center\, 60 Douglas Rd.\, Whitinsville\, MA\, United States
END:VEVENT
BEGIN:VEVENT
DTSTART;TZID=UTC:20251020T180000
DTEND;TZID=UTC:20251020T190000
DTSTAMP:20260423T221024
CREATED:20250825T133111Z
LAST-MODIFIED:20250825T133111Z
UID:6674-1760983200-1760986800@www.women-history.com
SUMMARY:The Unsung Heroine Behind the New Deal (Part 2)
DESCRIPTION:Free of charge \n 
URL:https://www.women-history.com/event/the-unsung-heroine-behind-the-new-deal-part-2-13/
LOCATION:Bridgewater Public Library\, 15 South Street\, Bridgewater\, MA\, United States
END:VEVENT
BEGIN:VEVENT
DTSTART;TZID=UTC:20251015T190000
DTEND;TZID=UTC:20251015T200000
DTSTAMP:20260423T221024
CREATED:20251001T182619Z
LAST-MODIFIED:20251001T190938Z
UID:6684-1760554800-1760558400@www.women-history.com
SUMMARY:Farm Girl on the Front Lines: Deborah Sampson's Story
DESCRIPTION:Free of charge;  no registration \nHosted by the Douglas Historical Society \nThis program is supported in part by a grant from the Douglas Cultural Council\, a local agency which is supported by the Mass Cultural Council\, a state agency. \n  \n 
URL:https://www.women-history.com/event/farm-girl-on-the-front-lines-deborah-sampsons-story/
LOCATION:E.N. Jenckes Store Museum\, 283 Main St.\, Douglas\, Mass
END:VEVENT
BEGIN:VEVENT
DTSTART;TZID=UTC:20251014T110000
DTEND;TZID=UTC:20251014T120000
DTSTAMP:20260423T221024
CREATED:20251001T181459Z
LAST-MODIFIED:20251001T181459Z
UID:6681-1760439600-1760443200@www.women-history.com
SUMMARY:Farm Girl on the Front Lines: Deborah Sampson's Secret!
DESCRIPTION:Includes lunch. Sign up at 508-376-7051 \nFree of charge
URL:https://www.women-history.com/event/farm-girl-on-the-front-lines-deborah-sampsons-secret-20/
LOCATION:Millis Senior Center\, Milllis Town Hall\, 900 Main St.\, Millis\, MA\, United States
END:VEVENT
BEGIN:VEVENT
DTSTART;TZID=UTC:20251007T130000
DTEND;TZID=UTC:20251007T140000
DTSTAMP:20260423T221024
CREATED:20251001T180843Z
LAST-MODIFIED:20251001T181624Z
UID:6678-1759842000-1759845600@www.women-history.com
SUMMARY:Farm Girl on the Front Lines: Deborah Sampson's Secret!
DESCRIPTION:Free of charge \nRegistration encouraged. Call 508-520-4945
URL:https://www.women-history.com/event/farm-girl-on-the-front-lines-deborah-sampsons-secret-19/
LOCATION:Franklin Senior Center\, 10 Daniel McCahill St.\, Franklin\, MA\, 02054-1043\, United States
END:VEVENT
BEGIN:VEVENT
DTSTART;TZID=UTC:20251001T183000
DTEND;TZID=UTC:20251001T193000
DTSTAMP:20260423T221024
CREATED:20250813T200602Z
LAST-MODIFIED:20251012T154359Z
UID:6668-1759343400-1759347000@www.women-history.com
SUMMARY:The Unsung Heroine Behind the New Deal
DESCRIPTION:Free of charge \nThis program is supported in part by a grant from the Sturbridge Cultural Council\, a local agency which is supported by the Mass Cultural Council\, a state agency. \n  \n 
URL:https://www.women-history.com/event/the-unsung-heroine-behind-the-new-deal-4/
LOCATION:Joshua Hyde Library\, 306 Main St.\, Sturbridge\, MA\, United States
END:VEVENT
BEGIN:VEVENT
DTSTART;TZID=UTC:20250930T060000
DTEND;TZID=UTC:20250930T190000
DTSTAMP:20260423T221024
CREATED:20250813T195949Z
LAST-MODIFIED:20250813T195949Z
UID:6665-1759212000-1759258800@www.women-history.com
SUMMARY:The Unsung Heroine Behind the New Deal (Part 1)
DESCRIPTION:Free of charge \nRegister at https://eastbridgewaterlibrary.libcal.com/event/13992823
URL:https://www.women-history.com/event/the-unsung-heroine-behind-the-new-deal-part-1-8/
LOCATION:East Bridgewater Public Library\, 32 Union St.\, East Bridgewater\, MA
END:VEVENT
BEGIN:VEVENT
DTSTART;TZID=UTC:20250902T190000
DTEND;TZID=UTC:20250902T200000
DTSTAMP:20260423T221024
CREATED:20250709T140505Z
LAST-MODIFIED:20250709T140918Z
UID:6652-1756839600-1756843200@www.women-history.com
SUMMARY:The Unsung Heroine Behind the New Deal  (Part 1)
DESCRIPTION:
URL:https://www.women-history.com/event/the-unsung-heroine-behind-the-new-deal-part-1-7/
LOCATION:Jenks Center (Council on Aging)\, 109 Skillings Rd.\, Winchester\, MA\, 02054\, United States
END:VEVENT
BEGIN:VEVENT
DTSTART;TZID=UTC:20250718T090000
DTEND;TZID=UTC:20250718T140000
DTSTAMP:20260423T221024
CREATED:20250709T135743Z
LAST-MODIFIED:20250709T135743Z
UID:6649-1752829200-1752847200@www.women-history.com
SUMMARY:Outing: Visit Worcester in its Victorian Heydays!
DESCRIPTION:Step back into the time of corsets\, calling cards\, and pocket watches- the days of your grandparents. \nOn July 18\, the Norfolk Senior Center will host A Trip to Worcester in its Victorian Heydays!  Your guide will be longtime Worcester resident Frances Perkins (portrayed by Janet Parnes\, Historical Portrayals by Lady J). Miss Perkins was the 1st woman to serve in the US Cabinet (FDR’s Secretary of Labor). \nSee Frances’ childhood home. Learn the rags-to-restoration story behind the 1911 Union Train Station; cringe\, chuckle\, and marvel at Worcester’s corset industry (we’ll discuss “all things corset”) Tour the E.N. Jenckes Store Museum\, operating from 1833 to 1965. Gawk at the 1800s “washing machine”; turn of the century coffee grinder and “medicines” Enjoy a typical (simple) Victorian lunch in the Store Museum. \nAnd more.. \nDiscover how Worcester transformed from an agricultural community to a hub of industry and innovation; from a town in the center of the state to the Heart of the Commonwealth. \nRegistration required. Call Debbie Sand at the Senior Center 508-528-4430.to choose turkey\, roast beef or egg salad sandwich. Cost is $50 due  at the reservation. Limited to 19 people. Must take Senior-Center van. Call by July 10. \n  \n 
URL:https://www.women-history.com/event/outing-visit-worcester-in-its-victorian-heydays/
LOCATION:Norfolk Senior Center\, 29 Medway Branch\, Norfolk\, MA
END:VEVENT
BEGIN:VEVENT
DTSTART;TZID=UTC:20250708T190000
DTEND;TZID=UTC:20250708T200000
DTSTAMP:20260423T221024
CREATED:20250616T140637Z
LAST-MODIFIED:20250627T172144Z
UID:6635-1752001200-1752004800@www.women-history.com
SUMMARY:Farm Girl on the Front Lines: Deborah Sampson's Secret!
DESCRIPTION:Free of charge\nAppeals to ages 7-adult\nThis program is supported in part by a grant from the Woburn Cultural Council\, a local agency which is supported by the Mass Cultural Council\, a state agency.
URL:https://www.women-history.com/event/farm-girl-on-the-front-lines-deborah-sampsons-secret-18/
LOCATION:Woburn Public Library\, 45 Pleasant St\, Woburn\, MA\, 02054\, United States
END:VEVENT
BEGIN:VEVENT
DTSTART;TZID=UTC:20250609T130000
DTEND;TZID=UTC:20250609T140000
DTSTAMP:20260423T221024
CREATED:20250530T161916Z
LAST-MODIFIED:20250530T162023Z
UID:6628-1749474000-1749477600@www.women-history.com
SUMMARY:Myths & Miracles of Victorian Medicine
DESCRIPTION:This program\ was to take place in May. It was cancelled rescheduled for June 9 \nCost: $5 \nRegistration required.\, To register call the Senior Center at 508-999-4747 \nThis program is supported in part by a grant from the Dartmouth Cultural Council\, a local agency which is supported by the Mass Cultural Council\, a state agency. \n 
URL:https://www.women-history.com/event/myths-miracles-of-victorian-medicine-9/
LOCATION:Dartmouth Senior Center\, 628 Dartmouth Rd.\, Dartmouth\, MA
END:VEVENT
BEGIN:VEVENT
DTSTART;TZID=UTC:20250531T140000
DTEND;TZID=UTC:20250531T160000
DTSTAMP:20260423T221024
CREATED:20250530T160906Z
LAST-MODIFIED:20250530T162235Z
UID:6626-1748700000-1748707200@www.women-history.com
SUMMARY:Farm Girl on the Front Lines: Deborah Sampson's Secret!
DESCRIPTION:Free of charge \nIn-person and Zoom options. Register for either at https://tinyurl.com/AbbotDebSam. \nPerformance runs from 2-3 pm. Social hour will follow. \nSponsored by the Friends of Abbot Public Library and the Marblehead League of Women Voters.
URL:https://www.women-history.com/event/farm-girl-on-the-front-lines-deborah-sampsons-secret-17/
LOCATION:Abbot Public Library\, 235 Pleasant St\, Marblehead\, MA
END:VEVENT
BEGIN:VEVENT
DTSTART;TZID=UTC:20250520T173000
DTEND;TZID=UTC:20250520T183000
DTSTAMP:20260423T221024
CREATED:20250423T173539Z
LAST-MODIFIED:20250423T174618Z
UID:6618-1747762200-1747765800@www.women-history.com
SUMMARY:The Unsung Heroine Behind the New Deal ( Part 2)
DESCRIPTION:  \nFrances Perkins Shakes up Washington! \nYou haven’t seen Part 1? No worries\, It is not necessary to have seen Part 1 in order to understand and enjoy Part 2. \nRegistration required.\, Call the Center at 508) 830-4230 \nSponsored by the Friends of the Center for Active Living \n  \n 
URL:https://www.women-history.com/event/the-unsung-heroine-behind-the-new-deal-part-2-11/
LOCATION:Center for Active Living (Plymouth Council on  Aging)\, 44 Nook Rd.\, Plymouth\, MA
END:VEVENT
BEGIN:VEVENT
DTSTART;TZID=UTC:20250516T110000
DTEND;TZID=UTC:20250516T120000
DTSTAMP:20260423T221024
CREATED:20250423T163234Z
LAST-MODIFIED:20250423T163234Z
UID:6616-1747393200-1747396800@www.women-history.com
SUMMARY:Quaker Girl Takes Washington's Center State: The Influence of Dolley Madison
DESCRIPTION:Free event \nAs lunch will be served\, registration is required: call the Senior Center at 508-376-7051. Space is limited.
URL:https://www.women-history.com/event/quaker-girl-takes-washingtons-center-state-the-influence-of-dolley-madison/
LOCATION:Millis Senior Center\, Milllis Town Hall\, 900 Main St.\, Millis\, MA\, United States
END:VEVENT
BEGIN:VEVENT
DTSTART;TZID=UTC:20250515T130000
DTEND;TZID=UTC:20250515T140000
DTSTAMP:20260423T221024
CREATED:20250423T162535Z
LAST-MODIFIED:20250423T162535Z
UID:6614-1747314000-1747317600@www.women-history.com
SUMMARY:Farm Girl on the Front Lines: Deborah Sampson's Secret!
DESCRIPTION:Free of charge \nThis event is sponsored  by the Sutton Historical Society\, It will take place at the Sutton Senior Center. \nThis program is supported in part by a grant from the Sutton Cultural Council\, a local agency which is supported by the Mass Cultural Council\, a state agency. \nQuestions? Contact the Sutton Histrical Society at Sutton1704.org \n  \n  \n 
URL:https://www.women-history.com/event/farm-girl-on-the-front-lines-deborah-sampsons-secret-16/
LOCATION:Sutton Senior Center\, 19 Hough Rd.\, Sutton\, MA
END:VEVENT
BEGIN:VEVENT
DTSTART;TZID=UTC:20250512T130000
DTEND;TZID=UTC:20250512T140000
DTSTAMP:20260423T221024
CREATED:20250423T161136Z
LAST-MODIFIED:20250423T174947Z
UID:6610-1747054800-1747058400@www.women-history.com
SUMMARY:Myths & Miracles of Victorian Medicine
DESCRIPTION:Charge: $5 pp \nRegistration required: call the Senior Center at 508-999-47171 \nThis program is supported in part by a grant from the Dartmouth Cultural Council\, a local agency which is supported by the Mass Cultural Council\, a state agency. \n 
URL:https://www.women-history.com/event/myths-miracles-of-victorian-medicine-8/
LOCATION:Dartmouth Senior Center\, 628 Dartmouth Rd.\, Dartmouth\, MA
END:VEVENT
BEGIN:VEVENT
DTSTART;TZID=UTC:20250508T130000
DTEND;TZID=UTC:20250508T140000
DTSTAMP:20260423T221024
CREATED:20250322T152907Z
LAST-MODIFIED:20250322T152907Z
UID:6604-1746709200-1746712800@www.women-history.com
SUMMARY:The Etiquette Expert of 1890: Mothers' Day Tea
DESCRIPTION:Free of charge. \nRegistration required: call the Senior Center at 508) 234-2002. Space is limited. \nThis program is supported in part by a grant from the Northbridge Cultural Council\, a local agency which is supported by the Mass Cultural Council\, a state agency. \n 
URL:https://www.women-history.com/event/the-etiquette-expert-of-1890-mothers-day-tea/
LOCATION:Northbridge Couuncil on Aging at Plunmer Place\, 20 Highland St.\, Whitinsville\, MA
END:VEVENT
BEGIN:VEVENT
DTSTART;TZID=UTC:20250430T180000
DTEND;TZID=UTC:20250430T193000
DTSTAMP:20260423T221024
CREATED:20250322T151955Z
LAST-MODIFIED:20250322T161104Z
UID:6598-1746036000-1746041400@www.women-history.com
SUMMARY:Tea & Re-enactment of First Lady Dolley Madison
DESCRIPTION:Tea and talk about tea traditions in early America from 6-6:30.  Dolley Madison portrayal runs from 6:30 -7:30. \nFree of charge \nRegistration required to ensure the Library has a sufficient quantity of tea. Register at https://tinyurl.com/TeaDolleyTaft or by calling the Library at 508-473-3259. \nSpace is limited
URL:https://www.women-history.com/event/tea-re-enactment-of-first-lady-dolley-madison/
LOCATION:Taft Public L:ibrary\, 29 North Ave.\, Mendon\, MA
END:VEVENT
BEGIN:VEVENT
DTSTART;TZID=UTC:20250423T180000
DTEND;TZID=UTC:20250423T193000
DTSTAMP:20260423T221024
CREATED:20250322T151149Z
LAST-MODIFIED:20250322T151250Z
UID:6596-1745431200-1745436600@www.women-history.com
SUMMARY:Farm Girl on  the Front Lines: Deborah Sampson's Secret!
DESCRIPTION:Free of charge \nSuitable for adults and children ages 8 and up \nRegistration encouraged: https://cumberlandlibrary.libcal.com/event/14352495 or call the Library at (401) 333-2552
URL:https://www.women-history.com/event/farm-girl-on-the-front-lines-deborah-sampsons-secret-15/
LOCATION:Cumberland Public Library\, 1464 Diamond Hill Rd\, Cumberland\, RI
END:VEVENT
BEGIN:VEVENT
DTSTART;TZID=UTC:20250416T130000
DTEND;TZID=UTC:20250416T140000
DTSTAMP:20260423T221024
CREATED:20250322T150456Z
LAST-MODIFIED:20250322T152134Z
UID:6594-1744808400-1744812000@www.women-history.com
SUMMARY:Quaker Girl Takes Washington's Center Stage: The Influence of Dolley Madison
DESCRIPTION:Free of charge \nRegistration encouraged: Call 781-455-7555 \nSpace is limited.
URL:https://www.women-history.com/event/quaker-girl-takes-washingtons-center-stage-the-influence-of-dolley-madison-3/
LOCATION:Center at the Heights\, 300 Hillside Ave\, Needham\, MA\, 02494\, United States
END:VEVENT
BEGIN:VEVENT
DTSTART;TZID=UTC:20250415T130000
DTEND;TZID=UTC:20250415T140000
DTSTAMP:20260423T221024
CREATED:20250322T145826Z
LAST-MODIFIED:20250322T145826Z
UID:6588-1744722000-1744725600@www.women-history.com
SUMMARY:Farm Girl on the Front Lines; Deborah Sampson's Secret!
DESCRIPTION:Free for Acton residents. May be a $5 fee for out-of-town guests. \nCall the Senior Center at 978-929-6652  with questions. \n 
URL:https://www.women-history.com/event/farm-girl-on-the-front-lines-deborah-sampsons-secret-14/
LOCATION:Acton Senior Center\, 30 Sudbury Road Rear\, Acton\, MA
END:VEVENT
BEGIN:VEVENT
DTSTART;TZID=UTC:20250412T140000
DTEND;TZID=UTC:20250412T150000
DTSTAMP:20260423T221024
CREATED:20250322T141940Z
LAST-MODIFIED:20250322T144919Z
UID:6582-1744466400-1744470000@www.women-history.com
SUMMARY:Myths & Miracles of Victorian Medicine
DESCRIPTION:Free of charge \nPre-registration required. Register by visiting the Senior Center web site at https://www.town.duxbury.ma.us/senior-center. Registration opens March 24. \nIf you are not already enrolled with the Senior Center\, register by calling 781-934-5774 x 5703 . \n  \n  \n  \n 
URL:https://www.women-history.com/event/myths-miracles-of-victorian-medicine-7/
LOCATION:Duxbury Senior Center\, 10 Mayflower St.\, Duxbury\, MA
END:VEVENT
BEGIN:VEVENT
DTSTART;TZID=UTC:20250403T190000
DTEND;TZID=UTC:20250403T200000
DTSTAMP:20260423T221024
CREATED:20250217T172208Z
LAST-MODIFIED:20250217T172208Z
UID:6560-1743706800-1743710400@www.women-history.com
SUMMARY:Farm Girl on the Front Lines: Deborah Sampson's Secret!
DESCRIPTION:Free of charge \nRegister by calling the Library at 508-533-3217 \nThis program is supported in part by a grant from the Medway Cultural Council\, a local agency which is supported by the Mass Cultural Council\, a state agency.
URL:https://www.women-history.com/event/farm-girl-on-the-front-lines-deborah-sampsons-secret-13/
LOCATION:Medway Public Library\, 26 High St.\, Medway\, MA
END:VEVENT
BEGIN:VEVENT
DTSTART;TZID=UTC:20250327T183000
DTEND;TZID=UTC:20250327T193000
DTSTAMP:20260423T221024
CREATED:20250217T171239Z
LAST-MODIFIED:20250217T171239Z
UID:6554-1743100200-1743103800@www.women-history.com
SUMMARY:The Unsung Heroine Behind the New Deal (Part 1): Frances Perkins' Rocky Road to Washington
DESCRIPTION:Free of Charge \nRegistration opens March 13. Register on or after March 13 at https://tinyurl.com/WestbLibFPerk1 or by calling the Library at 508-366-3050 \n \nThis program is supported in part by a grant from the Westborough Cultural Council\, a local agency which is supported by the Mass Cultural Council\, a state agency.
URL:https://www.women-history.com/event/the-unsung-heroine-behind-the-new-deal-part-1-frances-perkins-rocky-road-to-washington/
LOCATION:Westborough Public Library\, 55 West Main St.\, Westborough\, MA
END:VEVENT
BEGIN:VEVENT
DTSTART;TZID=UTC:20250320T190000
DTEND;TZID=UTC:20250320T200000
DTSTAMP:20260423T221024
CREATED:20250217T163943Z
LAST-MODIFIED:20250217T163943Z
UID:6546-1742497200-1742500800@www.women-history.com
SUMMARY:Farm Girl on the Front Lines: Deborah Sampson's Secret!
DESCRIPTION:Tufts Public Library \nAppeals to audiences ages 7 – adult \nFree to attend \nRegistration required: https://tinyurl.com/TuftsLibDebReg or call the Library at 781-340-5002
URL:https://www.women-history.com/event/farm-girl-on-the-front-lines-deborah-sampsons-secret-12/
LOCATION:Tufts Library\, 46 Broad St.\, Weymouth\, MA
END:VEVENT
BEGIN:VEVENT
DTSTART;TZID=UTC:20250315T110000
DTEND;TZID=UTC:20250315T120000
DTSTAMP:20260423T221024
CREATED:20250224T215013Z
LAST-MODIFIED:20250224T215021Z
UID:6564-1742036400-1742040000@www.women-history.com
SUMMARY:Myths & Miracles of Victorian Medicine
DESCRIPTION:Free of charge\nThis is a walk-in event (no registration)
URL:https://www.women-history.com/event/myths-miracles-of-victorian-medicine-6/
LOCATION:Goodnow Library\, 21 Concord Rd.\, Sudbury\, MA
END:VEVENT
BEGIN:VEVENT
DTSTART;TZID=UTC:20250312T150000
DTEND;TZID=UTC:20250312T160000
DTSTAMP:20260423T221024
CREATED:20250217T162135Z
LAST-MODIFIED:20250217T162135Z
UID:6542-1741791600-1741795200@www.women-history.com
SUMMARY:Farm Girl on the Front Lines: Deborah Sampson's Secret!
DESCRIPTION:Morse Institute Library\nOpen to children grades 2-5\nDrop-in event (No registration required)
URL:https://www.women-history.com/event/farm-girl-on-the-front-lines-deborah-sampsons-secret-11/
LOCATION:Morse Institure Library\, 14 East Central St.\, Natick\, MA
END:VEVENT
END:VCALENDAR