BEGIN:VCALENDAR
VERSION:2.0
PRODID:-//Historical Portrayals By Lady J - ECPv6.15.18//NONSGML v1.0//EN
CALSCALE:GREGORIAN
METHOD:PUBLISH
X-ORIGINAL-URL:https://www.women-history.com
X-WR-CALDESC:Events for Historical Portrayals By Lady J
REFRESH-INTERVAL;VALUE=DURATION:PT1H
X-Robots-Tag:noindex
X-PUBLISHED-TTL:PT1H
BEGIN:VTIMEZONE
TZID:UTC
BEGIN:STANDARD
TZOFFSETFROM:+0000
TZOFFSETTO:+0000
TZNAME:UTC
DTSTART:20250101T000000
END:STANDARD
END:VTIMEZONE
BEGIN:VEVENT
DTSTART;TZID=UTC:20260512T130000
DTEND;TZID=UTC:20260512T140000
DTSTAMP:20260423T222015
CREATED:20260412T125359Z
LAST-MODIFIED:20260412T125359Z
UID:6812-1778590800-1778594400@www.women-history.com
SUMMARY:Quaker Girl Takes Washington's Center Stage: The Influence of Dolley Madison
DESCRIPTION:Free for Acton residents; $5 for out-ot-towners
URL:https://www.women-history.com/event/quaker-girl-takes-washingtons-center-stage-the-influence-of-dolley-madison-5/
LOCATION:Acton Senior Center\, 30 Sudbury Road Rear\, Acton\, MA
END:VEVENT
BEGIN:VEVENT
DTSTART;TZID=UTC:20260515T110000
DTEND;TZID=UTC:20260515T120000
DTSTAMP:20260423T222015
CREATED:20260412T130656Z
LAST-MODIFIED:20260412T130656Z
UID:6814-1778842800-1778846400@www.women-history.com
SUMMARY:Farm Girl on  the Front Lines: Deborah Sampson's Secret!
DESCRIPTION:$5 Fee \nRegister and pay online at https://MyActiveCenter.com or call the Senior Center at 617-898-4893
URL:https://www.women-history.com/event/farm-girl-on-the-front-lines-deborah-sampsons-secret-23/
LOCATION:Milton Senior Center\, 10 Walnut St.\, MIlton\, MA
END:VEVENT
BEGIN:VEVENT
DTSTART;TZID=UTC:20260519T170000
DTEND;TZID=UTC:20260519T180000
DTSTAMP:20260423T222015
CREATED:20260412T131432Z
LAST-MODIFIED:20260412T131516Z
UID:6818-1779210000-1779213600@www.women-history.com
SUMMARY:Quaker Girl Takes Washington's Center Stage: The Influence of Dolley Madison
DESCRIPTION:Registration encouraged; Call the Librarybat 508-533-3217 \nSupported  part by a grant from the Medway Cultural Council\, a local agency which is supported by the Mass Cultural Council\, a state agency.
URL:https://www.women-history.com/event/quaker-girl-takes-washingtons-center-stage-the-influence-of-dolley-madison-6/
LOCATION:Medway Public Library\, 26 High St.\, Medway\, MA
END:VEVENT
END:VCALENDAR