BEGIN:VCALENDAR
VERSION:2.0
PRODID:-//Historical Portrayals By Lady J - ECPv6.15.18//NONSGML v1.0//EN
CALSCALE:GREGORIAN
METHOD:PUBLISH
X-WR-CALNAME:Historical Portrayals By Lady J
X-ORIGINAL-URL:https://www.women-history.com
X-WR-CALDESC:Events for Historical Portrayals By Lady J
REFRESH-INTERVAL;VALUE=DURATION:PT1H
X-Robots-Tag:noindex
X-PUBLISHED-TTL:PT1H
BEGIN:VTIMEZONE
TZID:UTC
BEGIN:STANDARD
TZOFFSETFROM:+0000
TZOFFSETTO:+0000
TZNAME:UTC
DTSTART:19690101T000000
END:STANDARD
END:VTIMEZONE
BEGIN:VEVENT
DTSTART;TZID=UTC:20260425T104038
DTEND;TZID=UTC:20260425T104038
DTSTAMP:20260425T104038
CREATED:20250709T144534Z
LAST-MODIFIED:20250709T202638Z
UID:6658-0-0@www.women-history.com
SUMMARY:The Unsung Heroine Behind the New Deal (Part 2)
DESCRIPTION:Evening event:  Time TBD \nIt is not necessary to have seen Part 1 in order to enjoy Part 2 \nThis program is supported in part by a grant from the Sturbridge  Cultural Council\, a local agency which is supported by the Mass Cultural Council\, a state agency. \n  \n 
URL:https://www.women-history.com/event/the-unsung-heroine-behind-the-new-deal-part-2-12/
LOCATION:Joshua Hyde Library\, 306 Main St.\, Sturbridge\, MA\, United States
END:VEVENT
END:VCALENDAR