BEGIN:VCALENDAR
VERSION:2.0
PRODID:-//Historical Portrayals By Lady J - ECPv6.15.18//NONSGML v1.0//EN
CALSCALE:GREGORIAN
METHOD:PUBLISH
X-WR-CALNAME:Historical Portrayals By Lady J
X-ORIGINAL-URL:https://www.women-history.com
X-WR-CALDESC:Events for Historical Portrayals By Lady J
REFRESH-INTERVAL;VALUE=DURATION:PT1H
X-Robots-Tag:noindex
X-PUBLISHED-TTL:PT1H
BEGIN:VTIMEZONE
TZID:UTC
BEGIN:STANDARD
TZOFFSETFROM:+0000
TZOFFSETTO:+0000
TZNAME:UTC
DTSTART:20220101T000000
END:STANDARD
END:VTIMEZONE
BEGIN:VEVENT
DTSTART;TZID=UTC:20240611T130000
DTEND;TZID=UTC:20240611T140000
DTSTAMP:20260424T125654
CREATED:20240528T183323Z
LAST-MODIFIED:20240611T101748Z
UID:6393-1718110800-1718114400@www.women-history.com
SUMMARY:Farm Girl on the Front Lines: Deborah Sampson's Secret!
DESCRIPTION:Note  start time has changed from 2 pm to 1 pm \nSupported by the Norfolk Cultural Council \nFree of charge \nTo  register call the Senior Center at 508-528-4430
URL:https://www.women-history.com/event/farm-girl-on-the-front-lines-deborah-sampsons-secret-6/
LOCATION:Norfolk Senior Center\, 29 Medway Branch\, Norfolk\, MA
END:VEVENT
BEGIN:VEVENT
DTSTART;TZID=UTC:20240611T091500
DTEND;TZID=UTC:20240611T104500
DTSTAMP:20260424T125654
CREATED:20240528T185134Z
LAST-MODIFIED:20240528T193147Z
UID:6395-1718097300-1718102700@www.women-history.com
SUMMARY:The Unsung Heroine Behind the New Deal
DESCRIPTION:Frances’ Perkins;’ years in Washington as Secretary of Labor \nThis is one of 3 historical portrayals in the Trailblazing Women Evergreen event at BU \nCost for the day is $40. Register at https://tinyurl.com/Evgreen for details about this full-day event. \n 
URL:https://www.women-history.com/event/the-unsung-heroine-behind-the-new-deal-3/
LOCATION:Boston University\, 33 Agganis Way\, STUVII\, Room 2603\, Boston\, MA
END:VEVENT
BEGIN:VEVENT
DTSTART;TZID=UTC:20240530T190000
DTEND;TZID=UTC:20240530T200000
DTSTAMP:20260424T125654
CREATED:20240427T125332Z
LAST-MODIFIED:20240427T130941Z
UID:6379-1717095600-1717099200@www.women-history.com
SUMMARY:The Unsung Heroine Behind the New Deal (Part 2)
DESCRIPTION:It is not necessary to have seen Part 1 of the series to enjoy Part 2\, the final segment. \nNo registration required. \nFree of charge
URL:https://www.women-history.com/event/the-unsung-heroine-behind-the-new-deal-part-2-7/
LOCATION:Stonehan Public Library\, 431 Main St.\, Stoneham\, MA
END:VEVENT
BEGIN:VEVENT
DTSTART;TZID=UTC:20240528T080000
DTEND;TZID=UTC:20240528T170000
DTSTAMP:20260424T125654
CREATED:20240528T191149Z
LAST-MODIFIED:20240528T191149Z
UID:6404-1716883200-1716915600@www.women-history.com
SUMMARY:Farm Girl on  the Front Lines: Deborah Sampson's Secret!
DESCRIPTION:  \nHosted by the Attleboro Historic Preservation Society. Portrayal will take place at the Attleboro  Area industrial Museum. \nFree of charge. \nSupported by the Attleboro Cultural Council \n 
URL:https://www.women-history.com/event/farm-girl-on-the-front-lines-deborah-sampsons-secret-7/
LOCATION:Attelboro  Area  Industorial Museum\, 42 Union St #2\, Attleboro\, MA
END:VEVENT
BEGIN:VEVENT
DTSTART;TZID=UTC:20240521T183000
DTEND;TZID=UTC:20240521T193000
DTSTAMP:20260424T125654
CREATED:20240427T124206Z
LAST-MODIFIED:20240427T124206Z
UID:6375-1716316200-1716319800@www.women-history.com
SUMMARY:The Unsung Heroine Behind the New Deal (Part 2)
DESCRIPTION:It is not necessary to have seen Part 1 of the series in order to enjoy Part 2\, the final segment. \nFor young adults and adults
URL:https://www.women-history.com/event/the-unsung-heroine-behind-the-new-deal-part-2-6/
LOCATION:Blackstone Public Library\, 86 Main St.\, Blackstone\, MA
END:VEVENT
BEGIN:VEVENT
DTSTART;TZID=UTC:20240515T130000
DTEND;TZID=UTC:20240515T140000
DTSTAMP:20260424T125654
CREATED:20240427T123324Z
LAST-MODIFIED:20240427T123405Z
UID:6369-1715778000-1715781600@www.women-history.com
SUMMARY:Farm Girl on the Front Lines: Deborah Sampson's Secret!
DESCRIPTION:Admission fee of $5 pp is payable at the door.
URL:https://www.women-history.com/event/farm-girl-on-the-front-lines-deborah-sampsons-secret-5/
LOCATION:Whipple Senior Center\, 182 Green St.\, North Weymouth\, MA\, 02191
END:VEVENT
BEGIN:VEVENT
DTSTART;TZID=UTC:20240514T190000
DTEND;TZID=UTC:20240514T200000
DTSTAMP:20260424T125654
CREATED:20240419T134117Z
LAST-MODIFIED:20240419T134117Z
UID:6363-1715713200-1715716800@www.women-history.com
SUMMARY:Myths & Miracles of Victorian Medicine
DESCRIPTION:This program is supported in part by a grant from the Billerica Cultural Council\, a local agency which is supported by the Mass Cultural Council\, a state agency. \nRegistration encouraged. Register at https://tinyurl.com/VicMedBill
URL:https://www.women-history.com/event/myths-miracles-of-victorian-medicine-3/
LOCATION:Billerica Public Library\, 15 Concord Rd.\, Billerica\, Ma
END:VEVENT
BEGIN:VEVENT
DTSTART;TZID=UTC:20240509T130000
DTEND;TZID=UTC:20240509T143000
DTSTAMP:20260424T125654
CREATED:20240419T133204Z
LAST-MODIFIED:20240419T133359Z
UID:6357-1715259600-1715265000@www.women-history.com
SUMMARY:Meet the Unsung Heroine Behind the New Deal (Part 2)
DESCRIPTION:It is not necessary to have seen Part 1 of the series to enjoy this final segment\, Part 2. \nThis program is supported in part by a grant from the Northbridge Cultural Council\, a local agency which is supported by the Mass Cultural Council\, a state agency. \n  \n 
URL:https://www.women-history.com/event/meet-the-unsung-heroine-behind-the-new-deal-part-2-2/
LOCATION:Northbridge Senior Center\, 20 Highland St.\, Whitinsville\, MA
END:VEVENT
BEGIN:VEVENT
DTSTART;TZID=UTC:20240507T130000
DTEND;TZID=UTC:20240507T140000
DTSTAMP:20260424T125654
CREATED:20240418T195959Z
LAST-MODIFIED:20240418T200041Z
UID:6354-1715086800-1715090400@www.women-history.com
SUMMARY:Meet the Unsung Heroine Behind the New Deal (Part 2)
DESCRIPTION:Free event \nIt is not necessary to have seen Part 1 of this 2-part series to enjoy Part 2. \nThis program is supported in part by a grant from the Harvard Cultural Council\, a local agency which is supported by the Mass Cultural Council. \n  \n 
URL:https://www.women-history.com/event/meet-the-unsung-heroine-behind-the-new-deal-part-2/
LOCATION:Harvard Senior Center\, 16 Lancaster County Road\, Harvard\, MA
END:VEVENT
BEGIN:VEVENT
DTSTART;TZID=UTC:20240426T130000
DTEND;TZID=UTC:20240426T140000
DTSTAMP:20260424T125654
CREATED:20240401T152434Z
LAST-MODIFIED:20240401T154112Z
UID:6333-1714136400-1714140000@www.women-history.com
SUMMARY:Quaker Girl Takes Washington  Center Stage: The Influence of Dolley Madison
DESCRIPTION:Free event \nRegistration requested: call the Bellingham Senior Center at 508-966-5843. \nQuestions? call the Senior Center at 508-966-5843 \nThis program is supported in part by a grant from the Bellingham Cultural Council\, a local agency which is supported by the Mass Cultural Council\, a state agency. \n  \n 
URL:https://www.women-history.com/event/quaker-girl-takes-washington-center-stage-the-influence-of-dolley-madison/
LOCATION:Bellingham Senior Center\, 40 Blackstone St.\, Bellingham\, MA
END:VEVENT
BEGIN:VEVENT
DTSTART;TZID=UTC:20240424T183000
DTEND;TZID=UTC:20240424T193000
DTSTAMP:20260424T125654
CREATED:20240401T151520Z
LAST-MODIFIED:20240401T151520Z
UID:6326-1713983400-1713987000@www.women-history.com
SUMMARY:The Unsung Heroine Behind the New Deal (Part 2)
DESCRIPTION:Free event \nIt is not necessary to have seen Part 1 of the series to enjoy Part 2. \nRegistration requested: https://tinyurl.com/CumbLibFranP2 or call the Library at 401-333-2552. \nQuestions: Call the Library at 401-333-2552 \n  \n 
URL:https://www.women-history.com/event/the-unsung-heroine-behind-the-new-deal-part-2-5/
LOCATION:Cumberland Public Library\, 1464 Diamond Hill Rd\, Cumberland\, RI
END:VEVENT
BEGIN:VEVENT
DTSTART;TZID=UTC:20240422T190000
DTEND;TZID=UTC:20240422T200000
DTSTAMP:20260424T125654
CREATED:20240418T195550Z
LAST-MODIFIED:20240418T195550Z
UID:6351-1713812400-1713816000@www.women-history.com
SUMMARY:Meet the Unsung Heroine Behind the New Deal (Part 1)
DESCRIPTION:This program is in collaboration with the Northborough Historical Society. Part 2 will take place at the Northborough Historical Society on October 25\, 2024.  \nFree event
URL:https://www.women-history.com/event/meet-the-unsung-heroine-behind-the-new-deal-part-1-3/
LOCATION:Northborough Free Library\, 34 Main St.\, Northborough\, MA
END:VEVENT
BEGIN:VEVENT
DTSTART;TZID=UTC:20240418T060000
DTEND;TZID=UTC:20240418T190000
DTSTAMP:20260424T125654
CREATED:20240401T145501Z
LAST-MODIFIED:20240401T150127Z
UID:6317-1713420000-1713466800@www.women-history.com
SUMMARY:The Unsung Heroine Behind the New Deal (Part 1)
DESCRIPTION:Free event \nTo register visit Uxbridge Library  Events Page: https://tinyurl.com/UxbLibFranPerk1 or by call the Library at 508-278-8624 \nThis program is supported in part by a grant from the Uxbridge Cultural Council\, a local agency which is supported by the Mass Cultural Council\, a state agency. \n  \n  \n 
URL:https://www.women-history.com/event/the-unsung-heroine-behind-the-new-deal-part-1-2/
LOCATION:Uxbridge Public Library\, 15 N. Main St.\, Uxbridge\, MA
END:VEVENT
BEGIN:VEVENT
DTSTART;TZID=UTC:20240416T130000
DTEND;TZID=UTC:20240416T140000
DTSTAMP:20260424T125654
CREATED:20240330T191859Z
LAST-MODIFIED:20240330T191859Z
UID:6312-1713272400-1713276000@www.women-history.com
SUMMARY:The Unsung Heroine Behind the New Deal (Part 1)
DESCRIPTION:Free of charge \nRegistration requested: Call 978-456-4120.This program is supported by a grant from the Harvard Cultural Cultural Council\, a local agency which is supported by the Mass Cultural Council\, a state agency
URL:https://www.women-history.com/event/the-unsung-heroine-behind-the-new-deal-part-1/
LOCATION:Harvard Senior Center\, 16 Lancaster County Road\, Harvard\, MA
END:VEVENT
BEGIN:VEVENT
DTSTART;TZID=UTC:20240412T130000
DTEND;TZID=UTC:20240412T140000
DTSTAMP:20260424T125654
CREATED:20240330T191231Z
LAST-MODIFIED:20240330T191322Z
UID:6307-1712926800-1712930400@www.women-history.com
SUMMARY:The Unsung Heroine Behind the New Deal (Part 2)
DESCRIPTION:It is not necessary to have seen Part 1 to enjoy Part 2. \nEvent is free \nRegistration requested. Call  508-528-4430 \nOptional lunch (sandwiches) served at 12:15. $2.00 charge. Register for lunch by calling 508-528-44430. Registration deadline is April 8.
URL:https://www.women-history.com/event/the-unsung-heroine-behind-the-new-deal-part-2-4/
LOCATION:Norfolk Senior Center\, 29 Medway Branch\, Norfolk\, MA
END:VEVENT
BEGIN:VEVENT
DTSTART;TZID=UTC:20240411T130000
DTEND;TZID=UTC:20240411T140000
DTSTAMP:20260424T125654
CREATED:20240330T190443Z
LAST-MODIFIED:20240330T190443Z
UID:6303-1712840400-1712844000@www.women-history.com
SUMMARY:The Unsung Heroine Behind the New Deal (Part 2)
DESCRIPTION:Free event \nNo registration required
URL:https://www.women-history.com/event/the-unsung-heroine-behind-the-new-deal-part-2-3/
LOCATION:Hopkinton Senior Center\, 28 Mayhew St.\, Hopkinton\, MA
END:VEVENT
BEGIN:VEVENT
DTSTART;TZID=UTC:20240410T190000
DTEND;TZID=UTC:20240410T200000
DTSTAMP:20260424T125654
CREATED:20240401T153253Z
LAST-MODIFIED:20240401T153253Z
UID:6338-1712775600-1712779200@www.women-history.com
SUMMARY:The Unsung Heroine Behind the New Deal (Part 1)
DESCRIPTION:Hosted by the Douglas Historical Society at the historic E.N. Jenckes Store Museum in Douglas \nComplimentary cake will be served in celebration of Frances Perkins’ 144th birthday (April 10). \nFree\, walk-in event \nThis program is supported in part by a grant from the Douglas Cultural Council\, a local agency which is supported by the Mass Cultural Council\, a state agency. \n  \n  \n 
URL:https://www.women-history.com/event/the-unsung-heroine-behind-the-new-deal-part-1-4/
LOCATION:E.N. Jenckes Store Museum\, 283 Main St.\, Douglas\, Mass
END:VEVENT
BEGIN:VEVENT
DTSTART;TZID=UTC:20240410T110000
DTEND;TZID=UTC:20240410T120000
DTSTAMP:20260424T125654
CREATED:20240330T184016Z
LAST-MODIFIED:20240330T184016Z
UID:6298-1712746800-1712750400@www.women-history.com
SUMMARY:The Unsung Heroine Behind the New Deal
DESCRIPTION:Free event \nTo celebrate Frances Perkins’ birthday\, complimentary cake and coffee will be served. \nRegistration requested. To register\, call the Millis Senior Center at 508-376-7051. \nThis program is supported in part by a grant from the Millis Cultural Council\, a local agency which is supported by the Mass Cultural Council\, a state agency. \n  \n  \n  \n 
URL:https://www.women-history.com/event/the-unsung-heroine-behind-the-new-deal-2/
LOCATION:Millis Senior Center\, Milllis Town Hall\, 900 Main St.\, Millis\, MA\, United States
END:VEVENT
BEGIN:VEVENT
DTSTART;TZID=UTC:20240404T130000
DTEND;TZID=UTC:20240404T140000
DTSTAMP:20260424T125654
CREATED:20240325T155431Z
LAST-MODIFIED:20240325T155431Z
UID:6294-1712235600-1712239200@www.women-history.com
SUMMARY:The Etiquette Expert of 1890
DESCRIPTION:Advice and admonitions for a proper Victorian Lady \nFree of charge \nRegistration encouraged: call the Center at the Heights at 781-455-7555
URL:https://www.women-history.com/event/the-etiquette-expert-of-1890/
LOCATION:Center at the Heights\, Needham\, 300 Hillside Ave.\, Needham\, MA
END:VEVENT
BEGIN:VEVENT
DTSTART;TZID=UTC:20240401T080000
DTEND;TZID=UTC:20240401T170000
DTSTAMP:20260424T125654
CREATED:20240401T145815Z
LAST-MODIFIED:20240401T145815Z
UID:6319-1711958400-1711990800@www.women-history.com
SUMMARY:The Unsung Heroine Behind the New Deal Part 1)
DESCRIPTION:Free\, walk-in event \nSponsored by the Northborough Free Library and Northborough Historical Society
URL:https://www.women-history.com/event/the-unsung-heroine-behind-the-new-deal-part-1-3/
LOCATION:Northborough Free Library\, 34 Main St.\, Northborough\, MA
END:VEVENT
BEGIN:VEVENT
DTSTART;TZID=UTC:20240327T180000
DTEND;TZID=UTC:20240327T190000
DTSTAMP:20260424T125654
CREATED:20240325T154813Z
LAST-MODIFIED:20240325T154813Z
UID:6292-1711562400-1711566000@www.women-history.com
SUMMARY:The Unsung Heroine Behind the New Deal (Part 2)
DESCRIPTION:Price: free with museum admission (admission fee is $5 for adults; $4 for students and seniors); free for members and children 18 and under \nThis portrayal addresses first female Cabinet Secretary Frances Perkins’ years in the FDR administration. It is not necessary to have seen Part 1 to enjoy Part 2. \n 
URL:https://www.women-history.com/event/the-unsung-heroine-behind-the-new-deal-part-2-2/
LOCATION:Worcester Historical Museum\, Worcester\, MA\, 30 Elm St.\, Worcester\, MA
END:VEVENT
BEGIN:VEVENT
DTSTART;TZID=UTC:20240326T190000
DTEND;TZID=UTC:20240326T200000
DTSTAMP:20260424T125654
CREATED:20240301T170155Z
LAST-MODIFIED:20240301T170155Z
UID:6280-1711479600-1711483200@www.women-history.com
SUMMARY:Myths & Miracles of Victorian Medicine
DESCRIPTION:  \nThis program is supported in part by a grant from the Medway Cultural Council\, a local agency which is supported by the Mass Cultural Council\, a state agency. \n 
URL:https://www.women-history.com/event/myths-miracles-of-victorian-medicine-2/
LOCATION:Medway Public Library\, 26 High St.\, Medway\, MA
END:VEVENT
BEGIN:VEVENT
DTSTART;TZID=UTC:20240320T110000
DTEND;TZID=UTC:20240320T120000
DTSTAMP:20260424T125654
CREATED:20240301T165542Z
LAST-MODIFIED:20240301T165542Z
UID:6276-1710932400-1710936000@www.women-history.com
SUMMARY:Meet the Unsung Heroine Behind the New Deal (Part 1)
DESCRIPTION:
URL:https://www.women-history.com/event/meet-the-unsung-heroine-behind-the-new-deal-part-1-2/
LOCATION:Duxbury Public  Library\, 77 Alden St.\, Duxbury\, MA
END:VEVENT
BEGIN:VEVENT
DTSTART;TZID=UTC:20240318T190000
DTEND;TZID=UTC:20240318T200000
DTSTAMP:20260424T125654
CREATED:20240301T164600Z
LAST-MODIFIED:20240301T164600Z
UID:6272-1710788400-1710792000@www.women-history.com
SUMMARY:Meet the Unsung Heroine Behind the New Deal (Part 1)
DESCRIPTION:Stoneham Public Library \n  \n 
URL:https://www.women-history.com/event/meet-the-unsung-heroine-behind-the-new-deal-part-1/
LOCATION:Stoneham Public Library\, 431 Main St.\, Stoneham\, MA
END:VEVENT
BEGIN:VEVENT
DTSTART;TZID=UTC:20240314T183000
DTEND;TZID=UTC:20240314T193000
DTSTAMP:20260424T125654
CREATED:20240119T202136Z
LAST-MODIFIED:20240301T170312Z
UID:6260-1710441000-1710444600@www.women-history.com
SUMMARY:Farm Girl on the Front Lines: Deborah Sampson's Secret!
DESCRIPTION:Appeals to ages 8-adult \nThis program is supported in part by a grant from the Westborough Cultural Council\, a local agency which is supported by the Mass Cultural Council\, a state agency. \n 
URL:https://www.women-history.com/event/farm-girl-on-the-front-lines-deborah-sampsons-secret-4/
LOCATION:Westborough Public Library\, 55 West Main St.\, Westborough\, MA
END:VEVENT
BEGIN:VEVENT
DTSTART;TZID=UTC:20240312T183000
DTEND;TZID=UTC:20240312T193000
DTSTAMP:20260424T125654
CREATED:20240119T201030Z
LAST-MODIFIED:20240119T201717Z
UID:6252-1710268200-1710271800@www.women-history.com
SUMMARY:The Unsung Heroine Behind the New Deal (Part 1)
DESCRIPTION:
URL:https://www.women-history.com/event/farm-girl-on-the-front-lines-deborah-sampsons-secret-3/
LOCATION:Blackstone Public Library\, 86 Main St.\, Blackstone\, MA
END:VEVENT
BEGIN:VEVENT
DTSTART;TZID=UTC:20240307T183000
DTEND;TZID=UTC:20240307T193000
DTSTAMP:20260424T125654
CREATED:20240119T195840Z
LAST-MODIFIED:20240305T150142Z
UID:6249-1709836200-1709839800@www.women-history.com
SUMMARY:The Unsung Heroine Behind the New Deal (Part 2)
DESCRIPTION:Register on the Morrill Memorial Library web site at https://tinyurl.com/FranPerk2MOR
URL:https://www.women-history.com/event/the-unsung-heroine-behind-the-new-deal-part-2/
LOCATION:Morrill Memorial Library\, 33 Walpole St.\, Norwood\, MA
END:VEVENT
BEGIN:VEVENT
DTSTART;TZID=UTC:20240108T190000
DTEND;TZID=UTC:20240108T200000
DTSTAMP:20260424T125654
CREATED:20231210T204655Z
LAST-MODIFIED:20231210T204655Z
UID:6229-1704740400-1704744000@www.women-history.com
SUMMARY:The Unsung Heroine Behind the New Deal
DESCRIPTION:First female cabinet secretary Frances Perkins navigates her way through Washington politics in the FDR administration. \n 
URL:https://www.women-history.com/event/the-unsung-heroine-behind-the-new-deal/
LOCATION:Tewksbury Public Library\, 300 Chandler St.\, Tewksbury\, MA
END:VEVENT
BEGIN:VEVENT
DTSTART;TZID=UTC:20231116T080000
DTEND;TZID=UTC:20231116T180000
DTSTAMP:20260424T125654
CREATED:20231103T151337Z
LAST-MODIFIED:20231103T151337Z
UID:6202-1700121600-1700157600@www.women-history.com
SUMMARY:The Unsung Heroine Behind the New Deal: Meet Frances Perkins
DESCRIPTION:Worcester Historical Museum 30 Elm St.\, Worcester \nFree to Museum members; Non-members: included in Museum admission fee
URL:https://www.women-history.com/event/the-unsung-heroine-behind-the-new-deal-meet-frances-perkins/
LOCATION:MA
END:VEVENT
BEGIN:VEVENT
DTSTART;TZID=UTC:20231114T080000
DTEND;TZID=UTC:20231114T183000
DTSTAMP:20260424T125654
CREATED:20231103T150547Z
LAST-MODIFIED:20231103T151044Z
UID:6199-1699948800-1699986600@www.women-history.com
SUMMARY:The Fire That Ignited Workplace Reform: Meet Frances Perkins
DESCRIPTION:November 14 Cumberland Public Library\, 1464 Diamond Hill Rd. Cumn\berland\, RI \nFree of charge.  Walk-in event
URL:https://www.women-history.com/event/the-fire-that-ignited-workplace-reform-meet-frances-perkins/
LOCATION:MA
END:VEVENT
END:VCALENDAR