BEGIN:VCALENDAR
VERSION:2.0
PRODID:-//Historical Portrayals By Lady J - ECPv6.15.18//NONSGML v1.0//EN
CALSCALE:GREGORIAN
METHOD:PUBLISH
X-ORIGINAL-URL:https://www.women-history.com
X-WR-CALDESC:Events for Historical Portrayals By Lady J
REFRESH-INTERVAL;VALUE=DURATION:PT1H
X-Robots-Tag:noindex
X-PUBLISHED-TTL:PT1H
BEGIN:VTIMEZONE
TZID:UTC
BEGIN:STANDARD
TZOFFSETFROM:+0000
TZOFFSETTO:+0000
TZNAME:UTC
DTSTART:20220101T000000
END:STANDARD
END:VTIMEZONE
BEGIN:VEVENT
DTSTART;TZID=UTC:20230927T183000
DTEND;TZID=UTC:20230927T193000
DTSTAMP:20260425T154032
CREATED:20230815T141531Z
LAST-MODIFIED:20230815T143522Z
UID:6107-1695839400-1695843000@www.women-history.com
SUMMARY:Farm Girl on the Front Lines: Deborah Sampson's Secret!
DESCRIPTION:Supported in part by a grant from the Hopedale Cultural Council \nAppeals to children  & adults
URL:https://www.women-history.com/event/farm-girl-on-the-front-lines-deborah-sampsons-secret/
LOCATION:Bancroft Memorial Library\, Hopedale\, MA
ORGANIZER;CN="Janet Parnes":MAILTO:LadiesTell@gmail.com
END:VEVENT
BEGIN:VEVENT
DTSTART;TZID=UTC:20230930T130000
DTEND;TZID=UTC:20230930T140000
DTSTAMP:20260425T154032
CREATED:20230815T144312Z
LAST-MODIFIED:20230815T144312Z
UID:6122-1696078800-1696082400@www.women-history.com
SUMMARY:Farm Girl on the Front Lines: Deborah Sampson's Secret!
DESCRIPTION:Appeals to children & adults
URL:https://www.women-history.com/event/farm-girl-on-the-front-lines-deborah-sampsons-secret-2/
LOCATION:Brrockton Public Library  304 MAin St. Brockton\, MA
ORGANIZER;CN="Janet Parnes":MAILTO:LadiesTell@gmail.com
END:VEVENT
END:VCALENDAR