BEGIN:VCALENDAR
VERSION:2.0
PRODID:-//Historical Portrayals By Lady J - ECPv6.15.18//NONSGML v1.0//EN
CALSCALE:GREGORIAN
METHOD:PUBLISH
X-WR-CALNAME:Historical Portrayals By Lady J
X-ORIGINAL-URL:https://www.women-history.com
X-WR-CALDESC:Events for Historical Portrayals By Lady J
REFRESH-INTERVAL;VALUE=DURATION:PT1H
X-Robots-Tag:noindex
X-PUBLISHED-TTL:PT1H
BEGIN:VTIMEZONE
TZID:UTC
BEGIN:STANDARD
TZOFFSETFROM:+0000
TZOFFSETTO:+0000
TZNAME:UTC
DTSTART:20220101T000000
END:STANDARD
END:VTIMEZONE
BEGIN:VEVENT
DTSTART;TZID=UTC:20231006T131500
DTEND;TZID=UTC:20231006T141500
DTSTAMP:20260425T133404
CREATED:20230815T143847Z
LAST-MODIFIED:20230830T151429Z
UID:6118-1696598100-1696601700@www.women-history.com
SUMMARY:Myths & Miracles of Victorian Medicine
DESCRIPTION:  \nThe Center is the senior center for Plymouth\, MA \nFree of charge \nRegistration encouraged. Call the Center at 508-830-4230
URL:https://www.women-history.com/event/meet-our-1st-female-cabinet-secretary-frances-perkins/
LOCATION:Plymouth Center for Active Living\, 44 Nook Rd.\, Plymouth\, MA\, 02360\, United States
ORGANIZER;CN="Janet Parnes":MAILTO:LadiesTell@gmail.com
END:VEVENT
BEGIN:VEVENT
DTSTART;TZID=UTC:20231016T140000
DTEND;TZID=UTC:20231016T150000
DTSTAMP:20260425T133404
CREATED:20230830T152259Z
LAST-MODIFIED:20230830T152259Z
UID:6144-1697464800-1697468400@www.women-history.com
SUMMARY:Myths & Miracles of Victorian Medicine
DESCRIPTION:Free of charge \nRegistration encouraged. Call the Senior Center at 617-972-6490
URL:https://www.women-history.com/event/myths-miracles-of-victorian-medicine/
LOCATION:Watertown Senior Center\, 31 Marshall St.\, Watertown\, MA\, 02472\, United States
END:VEVENT
BEGIN:VEVENT
DTSTART;TZID=UTC:20231017T130000
DTEND;TZID=UTC:20231017T140000
DTSTAMP:20260425T133404
CREATED:20230830T153134Z
LAST-MODIFIED:20230830T154414Z
UID:6148-1697547600-1697551200@www.women-history.com
SUMMARY:Meet the Architect of the New Deal: Miss Frances Perkins (Part 1)
DESCRIPTION:Location: McCulloch Building/Whipple Senior Center \nRegistration encouraged. Call (781) 682-6140
URL:https://www.women-history.com/event/the-architect-of-social-security-miss-frances-perkins-part-1/
LOCATION:Whipple Senior Center\, Weymouth\, 182 Green St\, N. Weymouth\, 02191\, United States
END:VEVENT
BEGIN:VEVENT
DTSTART;TZID=UTC:20231023T130000
DTEND;TZID=UTC:20231023T140000
DTSTAMP:20260425T133404
CREATED:20230830T155224Z
LAST-MODIFIED:20230830T155224Z
UID:6158-1698066000-1698069600@www.women-history.com
SUMMARY:Meet the Architect of the New Deal: Miss Frances Perkins (Part 1)
DESCRIPTION:Center at the Heights is the senior center for Needham\, MA \nFree of charge. \nRegistration encouraged. Call 781-455-7555
URL:https://www.women-history.com/event/meet-the-architect-of-the-new-deal-miss-frances-perkins-part-1/
LOCATION:MA
END:VEVENT
BEGIN:VEVENT
DTSTART;TZID=UTC:20231026T190000
DTEND;TZID=UTC:20231026T200000
DTSTAMP:20260425T133404
CREATED:20230830T154207Z
LAST-MODIFIED:20230830T154533Z
UID:6151-1698346800-1698350400@www.women-history.com
SUMMARY:Meet The Architect of the New Deal: Miss Frances Perkins (Part 2)
DESCRIPTION:Registration encouraged\, Call the library at (781) 784-1578 \nFree of charge
URL:https://www.women-history.com/event/the-architect-of-the-new-deal-miss-frances-perkins-part-2/
LOCATION:Sharon Public Library\, 11 N. Main St.\, Sharon\, MA\, 02067\, United States
END:VEVENT
END:VCALENDAR