BEGIN:VCALENDAR
VERSION:2.0
PRODID:-//Historical Portrayals By Lady J - ECPv6.15.18//NONSGML v1.0//EN
CALSCALE:GREGORIAN
METHOD:PUBLISH
X-ORIGINAL-URL:https://www.women-history.com
X-WR-CALDESC:Events for Historical Portrayals By Lady J
REFRESH-INTERVAL;VALUE=DURATION:PT1H
X-Robots-Tag:noindex
X-PUBLISHED-TTL:PT1H
BEGIN:VTIMEZONE
TZID:UTC
BEGIN:STANDARD
TZOFFSETFROM:+0000
TZOFFSETTO:+0000
TZNAME:UTC
DTSTART:20230101T000000
END:STANDARD
END:VTIMEZONE
BEGIN:VEVENT
DTSTART;TZID=UTC:20240401T080000
DTEND;TZID=UTC:20240401T170000
DTSTAMP:20260425T034848
CREATED:20240401T145815Z
LAST-MODIFIED:20240401T145815Z
UID:6319-1711958400-1711990800@www.women-history.com
SUMMARY:The Unsung Heroine Behind the New Deal Part 1)
DESCRIPTION:Free\, walk-in event \nSponsored by the Northborough Free Library and Northborough Historical Society
URL:https://www.women-history.com/event/the-unsung-heroine-behind-the-new-deal-part-1-3/
LOCATION:Northborough Free Library\, 34 Main St.\, Northborough\, MA
END:VEVENT
BEGIN:VEVENT
DTSTART;TZID=UTC:20240404T130000
DTEND;TZID=UTC:20240404T140000
DTSTAMP:20260425T034848
CREATED:20240325T155431Z
LAST-MODIFIED:20240325T155431Z
UID:6294-1712235600-1712239200@www.women-history.com
SUMMARY:The Etiquette Expert of 1890
DESCRIPTION:Advice and admonitions for a proper Victorian Lady \nFree of charge \nRegistration encouraged: call the Center at the Heights at 781-455-7555
URL:https://www.women-history.com/event/the-etiquette-expert-of-1890/
LOCATION:Center at the Heights\, Needham\, 300 Hillside Ave.\, Needham\, MA
END:VEVENT
BEGIN:VEVENT
DTSTART;TZID=UTC:20240410T110000
DTEND;TZID=UTC:20240410T120000
DTSTAMP:20260425T034848
CREATED:20240330T184016Z
LAST-MODIFIED:20240330T184016Z
UID:6298-1712746800-1712750400@www.women-history.com
SUMMARY:The Unsung Heroine Behind the New Deal
DESCRIPTION:Free event \nTo celebrate Frances Perkins’ birthday\, complimentary cake and coffee will be served. \nRegistration requested. To register\, call the Millis Senior Center at 508-376-7051. \nThis program is supported in part by a grant from the Millis Cultural Council\, a local agency which is supported by the Mass Cultural Council\, a state agency. \n  \n  \n  \n 
URL:https://www.women-history.com/event/the-unsung-heroine-behind-the-new-deal-2/
LOCATION:Millis Senior Center\, Milllis Town Hall\, 900 Main St.\, Millis\, MA\, United States
END:VEVENT
BEGIN:VEVENT
DTSTART;TZID=UTC:20240410T190000
DTEND;TZID=UTC:20240410T200000
DTSTAMP:20260425T034848
CREATED:20240401T153253Z
LAST-MODIFIED:20240401T153253Z
UID:6338-1712775600-1712779200@www.women-history.com
SUMMARY:The Unsung Heroine Behind the New Deal (Part 1)
DESCRIPTION:Hosted by the Douglas Historical Society at the historic E.N. Jenckes Store Museum in Douglas \nComplimentary cake will be served in celebration of Frances Perkins’ 144th birthday (April 10). \nFree\, walk-in event \nThis program is supported in part by a grant from the Douglas Cultural Council\, a local agency which is supported by the Mass Cultural Council\, a state agency. \n  \n  \n 
URL:https://www.women-history.com/event/the-unsung-heroine-behind-the-new-deal-part-1-4/
LOCATION:E.N. Jenckes Store Museum\, 283 Main St.\, Douglas\, Mass
END:VEVENT
BEGIN:VEVENT
DTSTART;TZID=UTC:20240411T130000
DTEND;TZID=UTC:20240411T140000
DTSTAMP:20260425T034848
CREATED:20240330T190443Z
LAST-MODIFIED:20240330T190443Z
UID:6303-1712840400-1712844000@www.women-history.com
SUMMARY:The Unsung Heroine Behind the New Deal (Part 2)
DESCRIPTION:Free event \nNo registration required
URL:https://www.women-history.com/event/the-unsung-heroine-behind-the-new-deal-part-2-3/
LOCATION:Hopkinton Senior Center\, 28 Mayhew St.\, Hopkinton\, MA
END:VEVENT
BEGIN:VEVENT
DTSTART;TZID=UTC:20240412T130000
DTEND;TZID=UTC:20240412T140000
DTSTAMP:20260425T034848
CREATED:20240330T191231Z
LAST-MODIFIED:20240330T191322Z
UID:6307-1712926800-1712930400@www.women-history.com
SUMMARY:The Unsung Heroine Behind the New Deal (Part 2)
DESCRIPTION:It is not necessary to have seen Part 1 to enjoy Part 2. \nEvent is free \nRegistration requested. Call  508-528-4430 \nOptional lunch (sandwiches) served at 12:15. $2.00 charge. Register for lunch by calling 508-528-44430. Registration deadline is April 8.
URL:https://www.women-history.com/event/the-unsung-heroine-behind-the-new-deal-part-2-4/
LOCATION:Norfolk Senior Center\, 29 Medway Branch\, Norfolk\, MA
END:VEVENT
BEGIN:VEVENT
DTSTART;TZID=UTC:20240416T130000
DTEND;TZID=UTC:20240416T140000
DTSTAMP:20260425T034848
CREATED:20240330T191859Z
LAST-MODIFIED:20240330T191859Z
UID:6312-1713272400-1713276000@www.women-history.com
SUMMARY:The Unsung Heroine Behind the New Deal (Part 1)
DESCRIPTION:Free of charge \nRegistration requested: Call 978-456-4120.This program is supported by a grant from the Harvard Cultural Cultural Council\, a local agency which is supported by the Mass Cultural Council\, a state agency
URL:https://www.women-history.com/event/the-unsung-heroine-behind-the-new-deal-part-1/
LOCATION:Harvard Senior Center\, 16 Lancaster County Road\, Harvard\, MA
END:VEVENT
BEGIN:VEVENT
DTSTART;TZID=UTC:20240418T060000
DTEND;TZID=UTC:20240418T190000
DTSTAMP:20260425T034848
CREATED:20240401T145501Z
LAST-MODIFIED:20240401T150127Z
UID:6317-1713420000-1713466800@www.women-history.com
SUMMARY:The Unsung Heroine Behind the New Deal (Part 1)
DESCRIPTION:Free event \nTo register visit Uxbridge Library  Events Page: https://tinyurl.com/UxbLibFranPerk1 or by call the Library at 508-278-8624 \nThis program is supported in part by a grant from the Uxbridge Cultural Council\, a local agency which is supported by the Mass Cultural Council\, a state agency. \n  \n  \n 
URL:https://www.women-history.com/event/the-unsung-heroine-behind-the-new-deal-part-1-2/
LOCATION:Uxbridge Public Library\, 15 N. Main St.\, Uxbridge\, MA
END:VEVENT
BEGIN:VEVENT
DTSTART;TZID=UTC:20240422T190000
DTEND;TZID=UTC:20240422T200000
DTSTAMP:20260425T034848
CREATED:20240418T195550Z
LAST-MODIFIED:20240418T195550Z
UID:6351-1713812400-1713816000@www.women-history.com
SUMMARY:Meet the Unsung Heroine Behind the New Deal (Part 1)
DESCRIPTION:This program is in collaboration with the Northborough Historical Society. Part 2 will take place at the Northborough Historical Society on October 25\, 2024.  \nFree event
URL:https://www.women-history.com/event/meet-the-unsung-heroine-behind-the-new-deal-part-1-3/
LOCATION:Northborough Free Library\, 34 Main St.\, Northborough\, MA
END:VEVENT
BEGIN:VEVENT
DTSTART;TZID=UTC:20240424T183000
DTEND;TZID=UTC:20240424T193000
DTSTAMP:20260425T034848
CREATED:20240401T151520Z
LAST-MODIFIED:20240401T151520Z
UID:6326-1713983400-1713987000@www.women-history.com
SUMMARY:The Unsung Heroine Behind the New Deal (Part 2)
DESCRIPTION:Free event \nIt is not necessary to have seen Part 1 of the series to enjoy Part 2. \nRegistration requested: https://tinyurl.com/CumbLibFranP2 or call the Library at 401-333-2552. \nQuestions: Call the Library at 401-333-2552 \n  \n 
URL:https://www.women-history.com/event/the-unsung-heroine-behind-the-new-deal-part-2-5/
LOCATION:Cumberland Public Library\, 1464 Diamond Hill Rd\, Cumberland\, RI
END:VEVENT
BEGIN:VEVENT
DTSTART;TZID=UTC:20240426T130000
DTEND;TZID=UTC:20240426T140000
DTSTAMP:20260425T034848
CREATED:20240401T152434Z
LAST-MODIFIED:20240401T154112Z
UID:6333-1714136400-1714140000@www.women-history.com
SUMMARY:Quaker Girl Takes Washington  Center Stage: The Influence of Dolley Madison
DESCRIPTION:Free event \nRegistration requested: call the Bellingham Senior Center at 508-966-5843. \nQuestions? call the Senior Center at 508-966-5843 \nThis program is supported in part by a grant from the Bellingham Cultural Council\, a local agency which is supported by the Mass Cultural Council\, a state agency. \n  \n 
URL:https://www.women-history.com/event/quaker-girl-takes-washington-center-stage-the-influence-of-dolley-madison/
LOCATION:Bellingham Senior Center\, 40 Blackstone St.\, Bellingham\, MA
END:VEVENT
END:VCALENDAR