BEGIN:VCALENDAR
VERSION:2.0
PRODID:-//Historical Portrayals By Lady J - ECPv6.15.18//NONSGML v1.0//EN
CALSCALE:GREGORIAN
METHOD:PUBLISH
X-ORIGINAL-URL:https://www.women-history.com
X-WR-CALDESC:Events for Historical Portrayals By Lady J
REFRESH-INTERVAL;VALUE=DURATION:PT1H
X-Robots-Tag:noindex
X-PUBLISHED-TTL:PT1H
BEGIN:VTIMEZONE
TZID:UTC
BEGIN:STANDARD
TZOFFSETFROM:+0000
TZOFFSETTO:+0000
TZNAME:UTC
DTSTART:20230101T000000
END:STANDARD
END:VTIMEZONE
BEGIN:VEVENT
DTSTART;TZID=UTC:20240809T120000
DTEND;TZID=UTC:20240809T130000
DTSTAMP:20260424T220738
CREATED:20240712T211846Z
LAST-MODIFIED:20240712T211846Z
UID:6434-1723204800-1723208400@www.women-history.com
SUMMARY:The Etiquette Expert of 1890
DESCRIPTION:Please call the Senior Center for details and registration. Call 508-234-0703
URL:https://www.women-history.com/event/the-etiquette-expert-of-1890-3/
LOCATION:Sutton Senior Center\, 19 Hough Rd.\, Sutton\, MA
END:VEVENT
BEGIN:VEVENT
DTSTART;TZID=UTC:20240829T130000
DTEND;TZID=UTC:20240829T140000
DTSTAMP:20260424T220738
CREATED:20240809T213733Z
LAST-MODIFIED:20240809T213733Z
UID:6442-1724936400-1724940000@www.women-history.com
SUMMARY:Myths & Miracles of Victorian Medicine
DESCRIPTION:
URL:https://www.women-history.com/event/myths-miracles-of-victorian-medicine-4/
LOCATION:Hopkinton Senior Center\, 28 Mayhew St.\, Hopkinton\, MA
END:VEVENT
END:VCALENDAR