BEGIN:VCALENDAR
VERSION:2.0
PRODID:-//Historical Portrayals By Lady J - ECPv6.15.18//NONSGML v1.0//EN
CALSCALE:GREGORIAN
METHOD:PUBLISH
X-WR-CALNAME:Historical Portrayals By Lady J
X-ORIGINAL-URL:https://www.women-history.com
X-WR-CALDESC:Events for Historical Portrayals By Lady J
REFRESH-INTERVAL;VALUE=DURATION:PT1H
X-Robots-Tag:noindex
X-PUBLISHED-TTL:PT1H
BEGIN:VTIMEZONE
TZID:UTC
BEGIN:STANDARD
TZOFFSETFROM:+0000
TZOFFSETTO:+0000
TZNAME:UTC
DTSTART:20230101T000000
END:STANDARD
END:VTIMEZONE
BEGIN:VEVENT
DTSTART;TZID=UTC:20241003T170000
DTEND;TZID=UTC:20241003T180000
DTSTAMP:20260424T191119
CREATED:20240910T093959Z
LAST-MODIFIED:20241001T163655Z
UID:6460-1727974800-1727978400@www.women-history.com
SUMMARY:The Unsung Heroine Behind the New Deal (Part 2) Cancelled. Rescheduled date to be posted soon
DESCRIPTION:Sutton Senior Center \n19 Hough Rd. \nSutton\, MA \n5-6pm \nRegister by calling the senior center at 508-234-0703
URL:https://www.women-history.com/event/the-unsung-heroine-behind-the-new-deal-part-2-8/
LOCATION:Sutton Senior Center\, 19 Hough Rd.\, Sutton\, MA
END:VEVENT
BEGIN:VEVENT
DTSTART;TZID=UTC:20241008T183000
DTEND;TZID=UTC:20241008T193000
DTSTAMP:20260424T191119
CREATED:20240910T094237Z
LAST-MODIFIED:20240910T094237Z
UID:6462-1728412200-1728415800@www.women-history.com
SUMMARY:Quaker Girl Takes Washington’s Center Stage:  The Influence of Dolley Madison
DESCRIPTION:Pembroke Public Library 6:30 -7:30 Pm\n142 Center St. Pembroke\, MA\n6:30 -7:30pm
URL:https://www.women-history.com/event/quaker-girl-takes-washingtons-center-stage-the-influence-of-dolley-madison/
LOCATION:Pembroke Public Library\, 142 Center St. Pembroke\, MA\, Pembroke\, United States
END:VEVENT
BEGIN:VEVENT
DTSTART;TZID=UTC:20241011T130000
DTEND;TZID=UTC:20241011T140000
DTSTAMP:20260424T191119
CREATED:20240910T094423Z
LAST-MODIFIED:20240910T094506Z
UID:6465-1728651600-1728655200@www.women-history.com
SUMMARY:Myths & Miracles of Victorian Medicine
DESCRIPTION:Norwood Senior Center \n275 Prospect St. \nNorwood\, MA \n1-2 PM
URL:https://www.women-history.com/event/myths-miracles-of-victorian-medicine-5/
LOCATION:Norwood Senior Center\, Norwood Senior Center\, 275 Prospect St. Norwood\, MA\, Norwood\, United States
END:VEVENT
BEGIN:VEVENT
DTSTART;TZID=UTC:20241019T130000
DTEND;TZID=UTC:20241019T140000
DTSTAMP:20260424T191119
CREATED:20240910T094620Z
LAST-MODIFIED:20240910T094755Z
UID:6468-1729342800-1729346400@www.women-history.com
SUMMARY:Farm Girl on the Front Lines: Deborah Sampson’s Secret!
DESCRIPTION:Blackstone Historical Museum \n23 Main Street Blackstone\, MA \n1-2 PM
URL:https://www.women-history.com/event/farm-girl-on-the-front-lines-deborah-sampsons-secret-9/
LOCATION:Blackstone Historical Museum\, Blackstone Historical Museum 23 Main Street Blackstone\, MA\, MA\, United States
END:VEVENT
BEGIN:VEVENT
DTSTART;TZID=UTC:20241023T183000
DTEND;TZID=UTC:20241023T193000
DTSTAMP:20260424T191119
CREATED:20240910T094714Z
LAST-MODIFIED:20241001T164921Z
UID:6471-1729708200-1729711800@www.women-history.com
SUMMARY:The Unsung Heroine Behind the New Deal (Parts 1 and 2)
DESCRIPTION:Part 1 runs from  5-6pm. \nPart 2 follows from 6:30-7:30pm. \nDetails and registration at https://tinyurl.com/FrnPerk1-Abbot \nSupported by the Friends of the Library
URL:https://www.women-history.com/event/the-unsing-heroine-behind-the-new-deal-part-2/
LOCATION:Abbot Public Library\, 235 Pleasant St\, Marblehead\, MA
END:VEVENT
BEGIN:VEVENT
DTSTART;TZID=UTC:20241025T190000
DTEND;TZID=UTC:20241025T200000
DTSTAMP:20260424T191119
CREATED:20240910T094849Z
LAST-MODIFIED:20241001T165232Z
UID:6473-1729882800-1729886400@www.women-history.com
SUMMARY:The Unsung Heroine Behind the New Deal (Part 2)
DESCRIPTION:7-8pm \nSponsored by the Northborough Free Library and Northborough Historical Society. \nNo registration required.
URL:https://www.women-history.com/event/the-unsung-heroine-behind-the-new-deal-part-2-9/
LOCATION:MA
END:VEVENT
END:VCALENDAR