BEGIN:VCALENDAR
VERSION:2.0
PRODID:-//Historical Portrayals By Lady J - ECPv6.15.18//NONSGML v1.0//EN
CALSCALE:GREGORIAN
METHOD:PUBLISH
X-WR-CALNAME:Historical Portrayals By Lady J
X-ORIGINAL-URL:https://www.women-history.com
X-WR-CALDESC:Events for Historical Portrayals By Lady J
REFRESH-INTERVAL;VALUE=DURATION:PT1H
X-Robots-Tag:noindex
X-PUBLISHED-TTL:PT1H
BEGIN:VTIMEZONE
TZID:UTC
BEGIN:STANDARD
TZOFFSETFROM:+0000
TZOFFSETTO:+0000
TZNAME:UTC
DTSTART:20230101T000000
END:STANDARD
END:VTIMEZONE
BEGIN:VEVENT
DTSTART;TZID=UTC:20241106T130000
DTEND;TZID=UTC:20241106T140000
DTSTAMP:20260424T174043
CREATED:20241020T145306Z
LAST-MODIFIED:20241031T171519Z
UID:6488-1730898000-1730901600@www.women-history.com
SUMMARY:The Unsung Heroine Behind the New Deal (Part 2)
DESCRIPTION:Frances Perkins’ 12 years as FDR’s Secretary of Labor.  It is not necessary to have seen Part 1 to enjoy Part 2. \nRegistration requested: call 781-(781) 455-7555 \nFree to attend
URL:https://www.women-history.com/event/the-unsung-heroine-behind-the-new-deal-part-2-10/
LOCATION:Center at the Heights\, 300 Hillside Ave\, Needham\, MA\, 02494\, United States
END:VEVENT
BEGIN:VEVENT
DTSTART;TZID=UTC:20241113T190000
DTEND;TZID=UTC:20241113T200000
DTSTAMP:20260424T174043
CREATED:20241031T171309Z
LAST-MODIFIED:20241031T171309Z
UID:6511-1731524400-1731528000@www.women-history.com
SUMMARY:The Unsung Heroine Behind the New Deal Part 2: Frances Shakes Up Washington
DESCRIPTION:Hosted by the Douglas Historical Society\, Performance will take place at the historic E.N. Jenckes Store Museum in Douglas  Free\, walk-in event This program is supported\, in part\, by a grant from the Douglas Cultural Council. \nIt is not necessary to have seen Part 1 of the 2-part series to enjoy Part 2.
URL:https://www.women-history.com/event/the-unsung-heroine-behind-the-new-deal-part-2-frances-shakes-up-washington/
LOCATION:E.N. Jenckes Store Museum\, 283 Main St.\, Douglas\, Mass
END:VEVENT
BEGIN:VEVENT
DTSTART;TZID=UTC:20241114T160000
DTEND;TZID=UTC:20241114T180000
DTSTAMP:20260424T174043
CREATED:20241020T151556Z
LAST-MODIFIED:20241020T151556Z
UID:6495-1731600000-1731607200@www.women-history.com
SUMMARY:The Unsung Heroine Behind the New Deal (Part 2): Dinner & Performance
DESCRIPTION:It is not necessary to have seen Part 1 in order to enjoy Part 2.\nLight dinner (optional)served at 4pm; performance starts at 5pm. Registration required: call 508-234-0703 by November 12. \nFree to attend both dinner and performance.
URL:https://www.women-history.com/event/the-unsung-heroine-behind-the-new-deal-part-2-dinner-performance/
LOCATION:Sutton Council on Aging\, 19 Hough Rd.\, Sutton\, MA\, United States
END:VEVENT
END:VCALENDAR