BEGIN:VCALENDAR
VERSION:2.0
PRODID:-//Historical Portrayals By Lady J - ECPv6.15.18//NONSGML v1.0//EN
CALSCALE:GREGORIAN
METHOD:PUBLISH
X-WR-CALNAME:Historical Portrayals By Lady J
X-ORIGINAL-URL:https://www.women-history.com
X-WR-CALDESC:Events for Historical Portrayals By Lady J
REFRESH-INTERVAL;VALUE=DURATION:PT1H
X-Robots-Tag:noindex
X-PUBLISHED-TTL:PT1H
BEGIN:VTIMEZONE
TZID:UTC
BEGIN:STANDARD
TZOFFSETFROM:+0000
TZOFFSETTO:+0000
TZNAME:UTC
DTSTART:20240101T000000
END:STANDARD
END:VTIMEZONE
BEGIN:VEVENT
DTSTART;TZID=UTC:20251001T183000
DTEND;TZID=UTC:20251001T193000
DTSTAMP:20260424T011214
CREATED:20250813T200602Z
LAST-MODIFIED:20251012T154359Z
UID:6668-1759343400-1759347000@www.women-history.com
SUMMARY:The Unsung Heroine Behind the New Deal
DESCRIPTION:Free of charge \nThis program is supported in part by a grant from the Sturbridge Cultural Council\, a local agency which is supported by the Mass Cultural Council\, a state agency. \n  \n 
URL:https://www.women-history.com/event/the-unsung-heroine-behind-the-new-deal-4/
LOCATION:Joshua Hyde Library\, 306 Main St.\, Sturbridge\, MA\, United States
END:VEVENT
BEGIN:VEVENT
DTSTART;TZID=UTC:20251007T130000
DTEND;TZID=UTC:20251007T140000
DTSTAMP:20260424T011214
CREATED:20251001T180843Z
LAST-MODIFIED:20251001T181624Z
UID:6678-1759842000-1759845600@www.women-history.com
SUMMARY:Farm Girl on the Front Lines: Deborah Sampson's Secret!
DESCRIPTION:Free of charge \nRegistration encouraged. Call 508-520-4945
URL:https://www.women-history.com/event/farm-girl-on-the-front-lines-deborah-sampsons-secret-19/
LOCATION:Franklin Senior Center\, 10 Daniel McCahill St.\, Franklin\, MA\, 02054-1043\, United States
END:VEVENT
BEGIN:VEVENT
DTSTART;TZID=UTC:20251014T110000
DTEND;TZID=UTC:20251014T120000
DTSTAMP:20260424T011214
CREATED:20251001T181459Z
LAST-MODIFIED:20251001T181459Z
UID:6681-1760439600-1760443200@www.women-history.com
SUMMARY:Farm Girl on the Front Lines: Deborah Sampson's Secret!
DESCRIPTION:Includes lunch. Sign up at 508-376-7051 \nFree of charge
URL:https://www.women-history.com/event/farm-girl-on-the-front-lines-deborah-sampsons-secret-20/
LOCATION:Millis Senior Center\, Milllis Town Hall\, 900 Main St.\, Millis\, MA\, United States
END:VEVENT
BEGIN:VEVENT
DTSTART;TZID=UTC:20251015T190000
DTEND;TZID=UTC:20251015T200000
DTSTAMP:20260424T011214
CREATED:20251001T182619Z
LAST-MODIFIED:20251001T190938Z
UID:6684-1760554800-1760558400@www.women-history.com
SUMMARY:Farm Girl on the Front Lines: Deborah Sampson's Story
DESCRIPTION:Free of charge;  no registration \nHosted by the Douglas Historical Society \nThis program is supported in part by a grant from the Douglas Cultural Council\, a local agency which is supported by the Mass Cultural Council\, a state agency. \n  \n 
URL:https://www.women-history.com/event/farm-girl-on-the-front-lines-deborah-sampsons-story/
LOCATION:E.N. Jenckes Store Museum\, 283 Main St.\, Douglas\, Mass
END:VEVENT
BEGIN:VEVENT
DTSTART;TZID=UTC:20251020T180000
DTEND;TZID=UTC:20251020T190000
DTSTAMP:20260424T011214
CREATED:20250825T133111Z
LAST-MODIFIED:20250825T133111Z
UID:6674-1760983200-1760986800@www.women-history.com
SUMMARY:The Unsung Heroine Behind the New Deal (Part 2)
DESCRIPTION:Free of charge \n 
URL:https://www.women-history.com/event/the-unsung-heroine-behind-the-new-deal-part-2-13/
LOCATION:Bridgewater Public Library\, 15 South Street\, Bridgewater\, MA\, United States
END:VEVENT
BEGIN:VEVENT
DTSTART;TZID=UTC:20251022T190000
DTEND;TZID=UTC:20251022T200000
DTSTAMP:20260424T011214
CREATED:20251003T161420Z
LAST-MODIFIED:20251003T161420Z
UID:6694-1761159600-1761163200@www.women-history.com
SUMMARY:The Unsung Heroine Behind the New Deal (Part 1)
DESCRIPTION:Hosted by the Northbridge Historical Society \nFree of charge
URL:https://www.women-history.com/event/the-unsung-heroine-behind-the-new-deal-part-1-9/
LOCATION:Singh Performance Center\, 60 Douglas Rd.\, Whitinsville\, MA\, United States
END:VEVENT
BEGIN:VEVENT
DTSTART;TZID=UTC:20251026T140000
DTEND;TZID=UTC:20251026T150000
DTSTAMP:20260424T011214
CREATED:20251010T160337Z
LAST-MODIFIED:20251010T160337Z
UID:6698-1761487200-1761490800@www.women-history.com
SUMMARY:Farm Girl on the Front Lines: Deborah Sampson's Secret!
DESCRIPTION:Free of charge \nDoors open at 2pm for refreshments. Performance starts at 2:15.
URL:https://www.women-history.com/event/farm-girl-on-the-front-lines-deborah-sampsons-secret-21/
LOCATION:Bedford Historical Society\, 16 South Rd.\, Bedford\, MA
END:VEVENT
END:VCALENDAR