BEGIN:VCALENDAR
VERSION:2.0
PRODID:-//Historical Portrayals By Lady J - ECPv6.15.18//NONSGML v1.0//EN
CALSCALE:GREGORIAN
METHOD:PUBLISH
X-ORIGINAL-URL:https://www.women-history.com
X-WR-CALDESC:Events for Historical Portrayals By Lady J
REFRESH-INTERVAL;VALUE=DURATION:PT1H
X-Robots-Tag:noindex
X-PUBLISHED-TTL:PT1H
BEGIN:VTIMEZONE
TZID:UTC
BEGIN:STANDARD
TZOFFSETFROM:+0000
TZOFFSETTO:+0000
TZNAME:UTC
DTSTART:20250101T000000
END:STANDARD
END:VTIMEZONE
BEGIN:VEVENT
DTSTART;TZID=UTC:20260315T140000
DTEND;TZID=UTC:20260315T150000
DTSTAMP:20260423T172612
CREATED:20260115T161938Z
LAST-MODIFIED:20260115T162822Z
UID:6719-1773583200-1773586800@www.women-history.com
SUMMARY:Myths & Miracles of Victorian Medicine
DESCRIPTION:No registration required
URL:https://www.women-history.com/event/myths-miracles-of-victorian-medicine-11/
LOCATION:Ashland Historical Society\, 2 Myrtle\, St.\, Ashland\, MA
END:VEVENT
BEGIN:VEVENT
DTSTART;TZID=UTC:20260318T183000
DTEND;TZID=UTC:20260318T193000
DTSTAMP:20260423T172612
CREATED:20260204T172241Z
LAST-MODIFIED:20260317T144221Z
UID:6774-1773858600-1773862200@www.women-history.com
SUMMARY:Odditities\, Necessaries\, and New Fangled Contraptions
DESCRIPTION:The history of Coca-Cola\, Monopoly\, Saturday Evening Post\, JELL-O etc. \n  \n 
URL:https://www.women-history.com/event/the-stories-behind-iconic-american-products/
LOCATION:Cumberland Public Library\, 1464 Diamond Hill Rd\, Cumberland\, RI
END:VEVENT
BEGIN:VEVENT
DTSTART;TZID=UTC:20260319T190000
DTEND;TZID=UTC:20260319T200000
DTSTAMP:20260423T172612
CREATED:20260115T162553Z
LAST-MODIFIED:20260115T162553Z
UID:6722-1773946800-1773950400@www.women-history.com
SUMMARY:Farm Girl on the Front Lines: Deborah Sampson's Secret!
DESCRIPTION:No registration required
URL:https://www.women-history.com/event/farm-girl-on-the-front-lines-deborah-sampsons-secret-22/
LOCATION:Maynard Public Library\, 77 Nason St\, Maynard\, MA
END:VEVENT
BEGIN:VEVENT
DTSTART;TZID=UTC:20260330T190000
DTEND;TZID=UTC:20260330T200000
DTSTAMP:20260423T172612
CREATED:20260218T144535Z
LAST-MODIFIED:20260314T140157Z
UID:6779-1774897200-1774900800@www.women-history.com
SUMMARY:Rescheduled to March 30: The Unsung Heroine Behind the New Deal (Part 2)
DESCRIPTION:This March 9 program was cancelled. The program has been rescheduled to March 30. \nIt is not necessary to have seen Part 1 in order to enjoy Part 2. \nHosted and sponsored by the Northbridge Historical Society. \n 
URL:https://www.women-history.com/event/the-unsung-heroine-behind-the-new-deal-part-2-14/
LOCATION:Singh Performance Center\, 60 Douglas Rd.\, Whitinsville\, MA\, United States
END:VEVENT
END:VCALENDAR